BEGIN:VCALENDAR
VERSION:2.0
PRODID:-//ChamberMaster//Event Calendar 2.0//EN
METHOD:PUBLISH
X-PUBLISHED-TTL:P3D
REFRESH-INTERVAL:P3D
CALSCALE:GREGORIAN
BEGIN:VEVENT
DTSTART:20241107T140000Z
DTEND:20241107T150000Z
X-MICROSOFT-CDO-ALLDAYEVENT:FALSE
SUMMARY:Fireside Chat with Congresswoman Victoria Spartz
DESCRIPTION:We welcome you to join us for a Fireside Chat with Congresswoman Victoria Spartz!\n\n			 \n\n			Thursday\, November 7 from 9:00am - 10:00am at The Bridgewater Club!\n			\n		\n	\n\n\n\n	\n		\n			\n			In partnership with the Westfield Chamber of Commerce\, this event will offer time to get to know more about your Representative in D.C and gain insights on what she sees as the big issues impacting the business community. There will also be time for you to share with Representative Spartz those business matters most important to you.
X-ALT-DESC;FMTTYPE=text/html:<table -webkit-text-stroke-width:="" background-color:="" border="0" cellpadding="0" cellspacing="0" class="x_text x_text--padding-vertical" color:="" data-cpeid="w-1728576658241-406" font-feature-settings:="" font-kerning:="" font-optical-sizing:="" font-size-adjust:="" font-variation-settings:="" helvetica="" letter-spacing:="" orphans:="" segoe="" style="font-style: normal\; font-variant-ligatures: normal\; font-variant-caps: normal\; font-variant-numeric: inherit\; font-variant-east-asian: inherit\; font-variant-alternates: inherit\; font-variant-position: inherit\; font-weight: 400\; font-stretch: inherit\; font-size: 15px\; line-height: inherit\; font-family: " table-layout:="" text-decoration-color:="" text-decoration-style:="" text-decoration-thickness:="" text-transform:="" ui="" web="" west="" white-space:="" widows:="" width="100%" word-spacing:="">\n	<tbody>\n		<tr>\n			<td 10px="" align="left" century="" class="x_text_content-cell x_content-padding-horizontal" color:="" display:="" font-size:="" line-height:="" overflow-wrap:="" padding:="" style="white-space: normal !important\; text-align: left\; font-family: " valign="top">\n			<p align="center" style="margin: 0px\; padding: 0px\; text-align: center\;"><span data-olk-copy-source="MessageBody" style="border: 0px\; font-style: inherit\; font-variant: inherit\; font-weight: bold\; font-stretch: inherit\; font-size: 23px\; line-height: inherit\; font-family: inherit\; font-optical-sizing: inherit\; font-size-adjust: inherit\; font-kerning: inherit\; font-feature-settings: inherit\; font-variation-settings: inherit\; margin: 0px\; padding: 0px\; vertical-align: baseline\; color: rgb(77\, 77\, 77)\;">We welcome you to join us for a Fireside Chat with Congresswoman Victoria Spartz!</span></p>\n\n			<p style="margin: 0px\; padding: 0px\;">&nbsp\;</p>\n\n			<p align="center" style="margin: 0px\; padding: 0px\; text-align: center\;"><span style="border: 0px\; font-style: inherit\; font-variant: inherit\; font-weight: bold\; font-stretch: inherit\; font-size: 16px\; line-height: inherit\; font-family: inherit\; font-optical-sizing: inherit\; font-size-adjust: inherit\; font-kerning: inherit\; font-feature-settings: inherit\; font-variation-settings: inherit\; margin: 0px\; padding: 0px\; vertical-align: baseline\; color: rgb(169\, 151\, 92)\;">Thursday\, November 7 from 9:00am - 10:00am at The Bridgewater Club!</span></p>\n			</td>\n		</tr>\n	</tbody>\n</table>\n\n<table -webkit-text-stroke-width:="" background-color:="" border="0" cellpadding="0" cellspacing="0" class="x_text x_text--padding-vertical" color:="" data-cpeid="w-1730383123993-234" font-feature-settings:="" font-kerning:="" font-optical-sizing:="" font-size-adjust:="" font-variation-settings:="" helvetica="" letter-spacing:="" orphans:="" segoe="" style="font-style: normal\; font-variant-ligatures: normal\; font-variant-caps: normal\; font-variant-numeric: inherit\; font-variant-east-asian: inherit\; font-variant-alternates: inherit\; font-variant-position: inherit\; font-weight: 400\; font-stretch: inherit\; font-size: 15px\; line-height: inherit\; font-family: " table-layout:="" text-decoration-color:="" text-decoration-style:="" text-decoration-thickness:="" text-transform:="" ui="" web="" west="" white-space:="" widows:="" width="100%" word-spacing:="">\n	<tbody>\n		<tr>\n			<td 10px="" align="left" century="" class="x_text_content-cell x_content-padding-horizontal" color:="" display:="" font-size:="" line-height:="" overflow-wrap:="" padding:="" style="white-space: normal !important\; text-align: left\; font-family: " valign="top">\n			<p style="margin: 0px\; padding: 0px\;"><span style="border: 0px\; font-style: inherit\; font-variant: inherit\; font-weight: inherit\; font-stretch: inherit\; font-size: 15px\; line-height: inherit\; font-family: inherit\; font-optical-sizing: inherit\; font-size-adjust: inherit\; font-kerning: inherit\; font-feature-settings: inherit\; font-variation-settings: inherit\; margin: 0px\; padding: 0px\; vertical-align: baseline\; color: rgb(77\, 77\, 77)\;">In partnership with the Westfield Chamber of Commerce\, this event will offer time to get to know more about your Representative in D.C and gain insights on what she sees as the big issues impacting the business community.&nbsp\;There will also be time for you to share with Representative Spartz those business matters most important to you.</span></p>\n			</td>\n		</tr>\n	</tbody>\n</table>\n
LOCATION:The Bridgewater Club in Westfield 3535 East 161st Street Carmel\, In 46033
UID:e.1538.4839
SEQUENCE:3
DTSTAMP:20260421T123708Z
URL:http://business.noblesvillechamber.com/events/details/fireside-chat-with-congresswoman-victoria-spartz-4839
END:VEVENT

END:VCALENDAR
