BEGIN:VCALENDAR
VERSION:2.0
PRODID:-//ChamberMaster//Event Calendar 2.0//EN
METHOD:PUBLISH
X-PUBLISHED-TTL:P3D
REFRESH-INTERVAL:P3D
CALSCALE:GREGORIAN
BEGIN:VEVENT
DTSTART:20241204T161500Z
DTEND:20241204T180000Z
X-MICROSOFT-CDO-ALLDAYEVENT:FALSE
SUMMARY:Holiday Luncheon 2024 Featuring Noblesville High School Choir Singers
DESCRIPTION:Join us for the return of our annual Holiday Luncheon at Purgatory Golf Club.  We are excited to invite back the very talented students from the Noblesville High School's MadJazz choir!\n\n\n\n We invite our guests to bring an unwrapped toy for the Noblesville Fire Fighter's Toy Drive and/or cans of non-perishable food for the Hamilton County Harvest Food Bank.   We will also have an opportunity for you to support these charitable efforts with cash and check contributions as we 'pass the hat' in the holiday spirit of giving.  For those who want to get a head start on supporting these charities\, you may add a donation with your luncheon registration.
X-ALT-DESC;FMTTYPE=text/html:<div style="font-style: italic\;"><strong><em><span style="background:white\;"><span style="color:#2F5597\;"><span style="font-family:arial\,sans-serif\;"><span style="font-size:14.0pt\;">Join us for the return of our annual Holiday Luncheon at Purgatory Golf Club.&nbsp\; We are excited to invite back the very talented students from&nbsp\;the Noblesville High School&#39\;s MadJazz choir!</span></span></span></span></em></strong><br style="font-variant-ligatures:normal\;font-variant-caps:normal\;orphans:2\;text-align:start\;widows:2\;-webkit-text-stroke-width:0px\;text-decoration-thickness:initial\;text-decoration-style:initial\;word-spacing:0px\;" />\n<br style="font-variant-ligatures:normal\;font-variant-caps:normal\;orphans:2\;text-align:start\;widows:2\;-webkit-text-stroke-width:0px\;text-decoration-thickness:initial\;text-decoration-style:initial\;word-spacing:0px\;" />\n<em><span style="color:#2F5597\;"><span style="font-family:arial\,sans-serif\;"><span style="font-size:14.0pt\;"><strong style="font-variant-ligatures:normal\;font-variant-caps:normal\;orphans:2\;text-align:start\;widows:2\;-webkit-text-stroke-width:0px\;text-decoration-thickness:initial\;text-decoration-style:initial\;word-spacing:0px\;"><span style="background:white\;">&#8203\;We invite our guests to bring an unwrapped toy for the Noblesville Fire Fighter&#39\;s&nbsp\;Toy&nbsp\;Drive and/or cans of non-perishable food for the Hamilton County Harvest Food Bank.&nbsp\; &nbsp\;We will also have an opportunity for you to support these charitable efforts&nbsp\;with cash and check contributions as we &#39\;pass the hat&#39\; in the holiday spirit of giving.&nbsp\; For those who want to get a head start on supporting these charities\, you may add a donation with your luncheon registration.</span></strong></span></span></span></em><br />\n<br />\n<br />\n<br />\n&nbsp\;</div>\n
LOCATION:Purgatory Golf Club 12160 E. 216th Street Noblesville\, IN 46060
UID:e.1538.4832
SEQUENCE:3
DTSTAMP:20260421T173331Z
URL:http://business.noblesvillechamber.com/events/details/holiday-luncheon-2024-featuring-noblesville-high-school-choir-singers-4832
END:VEVENT

END:VCALENDAR
