BEGIN:VCALENDAR
VERSION:2.0
PRODID:-//ChamberMaster//Event Calendar 2.0//EN
METHOD:PUBLISH
X-PUBLISHED-TTL:P3D
REFRESH-INTERVAL:P3D
CALSCALE:GREGORIAN
BEGIN:VEVENT
DTSTART:20241108T133000Z
DTEND:20241108T150000Z
X-MICROSOFT-CDO-ALLDAYEVENT:FALSE
SUMMARY:Indy Chamber's Spotlight on Noblesville with Mayor Jensen
DESCRIPTION:We are excited for the great interest in Noblesville!  The event is sold out.\n\nThe Spotlight On Series\, presented by Duke Energy\n\nCreated to highlight the communities of the Indy region....each installment showcases a different community within Indy's nine-county region\, shares key happenings\, and connects priority projects across community lines.\n\nJoin the Indy Chamber for Spotlight On Noblesville\, featuring Mayor Chris Jensen. Currently\, in his second term\, Mayor Jensen is dedicated to enhancing public safety while steering Noblesville toward the future\, all while respecting and preserving the city's historical assets. Noblesville has an exciting array of initiatives ahead\, including significant infrastructure developments\, downtown preservation efforts\, and investments.\n\nJoin to learn more of what Mayor Jensen has planned for the future of Noblesville and the Indy region as a whole!\n\nPre-registration required and can be done here.\n\nRegistration (via Eventbrite) is through our partners at the IndyChamber
X-ALT-DESC;FMTTYPE=text/html:<div class="content" style="box-sizing: border-box\; font-family: soleil\, sans-serif\; font-size: 15px\; color: rgb(33\, 37\, 41)\; -webkit-font-smoothing: antialiased !important\;">\n<p style="box-sizing: border-box\; font-size: 1.6rem\; margin-top: 0px\; margin-bottom: 1rem\; color: rgb(86\, 88\, 90)\; -webkit-font-smoothing: antialiased !important\;"><span style="font-size:14px\;"><strong><em><span style="color:#0000FF\;">We are excited for the great interest in Noblesville!&nbsp\; The event is&nbsp\;sold out.</span><br />\nThe Spotlight On&hellip\;Series\, presented by Duke Energy</em></strong><br />\nCreated to highlight the communities of the Indy region....each installment showcases a different community within Indy&rsquo\;s nine-county region\, shares key happenings\, and connects priority projects across community lines.</span></p>\n\n<p style="box-sizing: border-box\; font-size: 1.6rem\; margin-top: 0px\; margin-bottom: 1rem\; color: rgb(86\, 88\, 90)\; -webkit-font-smoothing: antialiased !important\;"><span style="font-size:14px\;"><span style="color:#202020\;"><span style="font-family:helvetica\,sans-serif\;">Join the Indy Chamber for Spotlight On&hellip\;Noblesville\, featuring&nbsp\;<strong>Mayor Chris Jensen</strong>. Currently\, in his second term\, Mayor Jensen is dedicated to enhancing public safety while steering Noblesville toward the future\, all while respecting and preserving the city&rsquo\;s historical assets. <strong>Noblesville has an exciting array of initiatives ahead</strong>\, including significant infrastructure developments\, downtown preservation efforts\, and investments.</span></span><br />\n<span style="color:#202020\;"><span style="font-family:helvetica\,sans-serif\;">Join to learn more of what Mayor Jensen has planned for the future of Noblesville and the Indy region as a whole!</span></span></span></p>\n\n<p style="box-sizing: border-box\; font-size: 1.6rem\; margin-top: 0px\; margin-bottom: 1rem\; color: rgb(86\, 88\, 90)\; -webkit-font-smoothing: antialiased !important\;"><strong><span style="font-size:14px\;"><span style="box-sizing: border-box\; -webkit-font-smoothing: antialiased !important\;">Pre-registration required and can be done here.</span></span></strong><br />\n<span style="font-size:14px\;">Registration (via Eventbrite) is through our&nbsp\;partners&nbsp\;at the IndyChamber</span></p>\n</div>\n\n<div class="mb3 d-none d-md-block" style="box-sizing: border-box\; font-family: soleil\, sans-serif\; font-size: 15px\; color: rgb(33\, 37\, 41)\; -webkit-font-smoothing: antialiased !important\; margin-bottom: 3rem !important\;">&nbsp\;</div>\n
LOCATION:The Courthouse Club 110 N 9th Street Noblesville\, IN 46060
UID:e.1538.4837
SEQUENCE:3
DTSTAMP:20260421T123650Z
URL:http://business.noblesvillechamber.com/events/details/indy-chamber-s-spotlight-on-noblesville-with-mayor-jensen-4837
END:VEVENT

END:VCALENDAR
