BEGIN:VCALENDAR
VERSION:2.0
PRODID:-//ChamberMaster//Event Calendar 2.0//EN
METHOD:PUBLISH
X-PUBLISHED-TTL:P3D
REFRESH-INTERVAL:P3D
CALSCALE:GREGORIAN
BEGIN:VEVENT
DTSTART:20241030T150000Z
DTEND:20241030T170000Z
X-MICROSOFT-CDO-ALLDAYEVENT:FALSE
SUMMARY:State of the Schools 2024
DESCRIPTION:The State of the Schools Luncheon \n\nPresented by Noblesville Schools Superintendent\n\nDr. Daniel G. Hile \nSuperintendent Dr. Dan Hile will discuss the current state of our public school system\, including academic achievements\, workforce development\, school finances\, construction\, and future planning.   So many great things have been happening in our schools\, and we hope you will join us for this informative luncheon.\n\n \nAttendees are invited and encouraged to wear their Black & Gold attire!\n \n\nBack by popular demand... our luncheon will feature a Taco Bar!
X-ALT-DESC;FMTTYPE=text/html:<h2 style="text-align: center\;"><span style="color:#A9975c\;"><em><strong><span style="font-size:16px\;">The State of the Schools Luncheon&nbsp\;<br />\nPresented by Noblesville Schools Superintendent<br />\nDr. Daniel G. Hile&nbsp\;</span></strong></em></span></h2>\n<span style="font-size: 14px\;">Superintendent Dr. Dan Hile will discuss the current state of our public school system\, including academic achievements\, workforce development\, school finances\, construction\, and future planning.&nbsp\; &nbsp\;So many great things have been happening in our schools\, and we hope you will join us for this informative luncheon.</span><br />\n&nbsp\;\n<div style="text-align: center\;"><span style="font-size: 14px\;">Attendees are invited and encouraged to wear their Black &amp\; Gold attire!</span></div>\n&nbsp\;\n\n<div style="text-align: center\;"><span style="font-size: 14px\;">Back by popular demand... our luncheon will feature a Taco Bar!</span></div>\n<br />\n&nbsp\;
LOCATION:Noblesville Schools Community Center 1775 Field Drive Noblesville\, IN 46060
UID:e.1538.4815
SEQUENCE:3
DTSTAMP:20260421T173138Z
URL:http://business.noblesvillechamber.com/events/details/state-of-the-schools-2024-4815
END:VEVENT

END:VCALENDAR
