BEGIN:VCALENDAR
VERSION:2.0
PRODID:-//ChamberMaster//Event Calendar 2.0//EN
METHOD:PUBLISH
X-PUBLISHED-TTL:P3D
REFRESH-INTERVAL:P3D
CALSCALE:GREGORIAN
BEGIN:VEVENT
DTSTART:20140417T143000Z
DTEND:20140417T180000Z
X-MICROSOFT-CDO-ALLDAYEVENT:FALSE
SUMMARY:10th Anniversary Women of Vision Luncheon
DESCRIPTION:Riverview Hospital Foundation invites you to save the date for the 10th Anniversary Women of Vision Luncheon\, sponsored by CarDon & Associates. Join us as we gather to celebrate\, learn and reflect.
X-ALT-DESC;FMTTYPE=text/html:Riverview Hospital Foundation invites you to save the date for the 10th Anniversary Women of Vision Luncheon\, sponsored by CarDon &amp\; Associates. Join us as we gather to celebrate\, learn and reflect. 
LOCATION:Renaissance Indianapolis North Hotel 11925 N. Meridian Street\, Carmel
UID:e.1538.566
SEQUENCE:3
DTSTAMP:20260419T132217Z
URL:https://business.noblesvillechamber.com/events/details/10th-anniversary-women-of-vision-luncheon-566
END:VEVENT

END:VCALENDAR
