BEGIN:VCALENDAR
VERSION:2.0
PRODID:-//ChamberMaster//Event Calendar 2.0//EN
METHOD:PUBLISH
X-PUBLISHED-TTL:P3D
REFRESH-INTERVAL:P3D
CALSCALE:GREGORIAN
BEGIN:VEVENT
DTSTART:20131005T150000Z
DTEND:20131005T190000Z
X-MICROSOFT-CDO-ALLDAYEVENT:FALSE
SUMMARY:14th Annual Potter?s Bridge Fall Festival
DESCRIPTION:Enjoy a special autumn day at Potter 's Bridge Park during the 14th annual Potter 's Bridge Fall Festival. Listen to live music\, visit the more than seventy artisans'\, crafts\, and food booths\, watch your little ones play in the KidZone\, or simply take in the natural beauty of Noblesville's most scenic park on the White River Greenway Trail.\n\n	 \n\n	*Are you an arts and crafts vendor interested in selling your creations? To learn more about this unique vending opportunity or to register\, call 317-770-4400 or visit the forms link on our website at myhamiltoncountyparks.com. Hurry\, deadline is September 21\, 2013.\n\n	 \n\n	Cost: Free to the public\, \n\n	$30 for 10x10 booth space*
X-ALT-DESC;FMTTYPE=text/html:<p class="MsoNormal" style="line-height: normal\; margin: 0in 0in 0pt">\n	<span lang="EN" style="mso-ansi-language: EN"><font size="3"><font color="#000000"><font face="Calibri">Enjoy a special autumn day at Potter &#39\;s Bridge Park during the 14th annual Potter &#39\;s Bridge Fall Festival. Listen to live music\, visit the more than seventy artisans&#39\;\, crafts\, and food booths\, watch your little ones play in the KidZone\, or simply take in the natural beauty of Noblesville&#39\;s most scenic park on the White River Greenway Trail.<o:p></o:p></font></font></font></span></p>\n<p class="MsoNormal" style="line-height: normal\; margin: 0in 0in 0pt">\n	<b><span lang="EN" style="mso-ansi-language: EN"><o:p><font color="#000000" face="Calibri" size="3">&nbsp\;</font></o:p></span></b></p>\n<p class="MsoNormal" style="line-height: normal\; margin: 0in 0in 0pt">\n	<font size="3"><font color="#000000"><font face="Calibri"><i><span lang="EN" style="mso-ansi-language: EN">*Are you an arts and crafts vendor interested in selling your creations? To learn more about this unique vending opportunity or to register\, call 317-770-4400 or visit the forms link on our website at myhamiltoncountyparks.com. Hurry\, deadline is September 21\, 2013.</span></i><o:p></o:p></font></font></font></p>\n<p class="MsoNormal" style="line-height: normal\; margin: 0in 0in 0pt">\n	<b><span lang="EN" style="mso-ansi-language: EN"><o:p><font color="#000000" face="Calibri" size="3">&nbsp\;</font></o:p></span></b></p>\n<p class="MsoNormal" style="line-height: normal\; margin: 0in 0in 0pt">\n	<font size="3"><font color="#000000"><font face="Calibri"><b><span lang="EN" style="mso-ansi-language: EN">Cost: </span></b><span lang="EN" style="mso-ansi-language: EN">Free to the public\, <o:p></o:p></span></font></font></font></p>\n<p class="MsoNormal" style="line-height: normal\; margin: 0in 0in 0pt">\n	<span lang="EN" style="mso-ansi-language: EN"><font size="3"><font color="#000000"><font face="Calibri">$30 for 10x10 booth space*<o:p></o:p></font></font></font></span></p>\n
LOCATION:Potter's Bridge Park 19401 N Allisonville Rd Noblesville\, IN 46060
UID:e.1538.503
SEQUENCE:3
DTSTAMP:20260419T214329Z
URL:https://business.noblesvillechamber.com/events/details/14th-annual-potter-s-bridge-fall-festival-503
END:VEVENT

END:VCALENDAR
