BEGIN:VCALENDAR
VERSION:2.0
PRODID:-//ChamberMaster//Event Calendar 2.0//EN
METHOD:PUBLISH
X-PUBLISHED-TTL:P3D
REFRESH-INTERVAL:P3D
CALSCALE:GREGORIAN
BEGIN:VEVENT
DTSTART:20110604T140000Z
DTEND:20110604T140000Z
X-MICROSOFT-CDO-ALLDAYEVENT:FALSE
SUMMARY:1863 Civil War Journey: Raid on Indiana
DESCRIPTION:Be the first to explore Conner Prairie's incredible one-of-a-kind new outdoor experience that puts you right in the middle of a dramatic moment in Indiana during the Civil War. This year marks the 150th anniversary of the beginning of the Civil War.  Through theatrical wizardry\, including video\, sound\, staging and actors dressed in authentic period costumes\, you will be drawn into the true story of General John Hunt Morgan's cavalry raid on Indiana and its impact on families and communities. Saturday\, June 4\, 10 a.m. – 5 p.m. and Sunday\, June 5\, 11 a.m. – 5 p.m. Admission is $14/adults\, $13/seniors 65+\, $9/youth (ages 2-12)\, free for members and youth under 2. Call 317.776.6006 or visit connerprairie.org for more information.
X-ALT-DESC;FMTTYPE=text/html:Be the first to explore Conner Prairie's incredible one-of-a-kind new outdoor experience that puts you right in the middle of a dramatic moment in Indiana during the Civil War. This year marks the 150th anniversary of the beginning of the Civil War.  Through theatrical wizardry\, including video\, sound\, staging and actors dressed in authentic period costumes\, you will be drawn into the true story of General John Hunt Morgan's cavalry raid on Indiana and its impact on families and communities. Saturday\, June 4\, 10 a.m. – 5 p.m. and Sunday\, June 5\, 11 a.m. – 5 p.m. Admission is $14/adults\, $13/seniors 65+\, $9/youth (ages 2-12)\, free for members and youth under 2. Call 317.776.6006 or visit connerprairie.org for more information.
LOCATION:Conner Prairie Interactive History Park
UID:e.1538.171
SEQUENCE:3
DTSTAMP:20260421T172634Z
URL:https://business.noblesvillechamber.com/events/details/1863-civil-war-journey-raid-on-indiana-06-04-2011-171
END:VEVENT

END:VCALENDAR
