BEGIN:VCALENDAR
VERSION:2.0
PRODID:-//ChamberMaster//Event Calendar 2.0//EN
METHOD:PUBLISH
X-PUBLISHED-TTL:P3D
REFRESH-INTERVAL:P3D
CALSCALE:GREGORIAN
BEGIN:VEVENT
DTSTART:20110323T230000Z
DTEND:20110323T230000Z
X-MICROSOFT-CDO-ALLDAYEVENT:FALSE
SUMMARY:1863 Civil War Journey Volunteer Informational Meeting
DESCRIPTION:Conner Prairie is seeking volunteers to portray the 18th Indiana Light Artillery\, the 19th Indiana Volunteer Infantry Co. D and the Soldiers' Aid Society. Members of these groups will provide engaging experiences to Conner Prairie's guests through demonstrations\, participatory activities and interpretations in the new 1863 Civil War Journey opening in June 2011.\n\nAn informational and organizational meeting will be held at 7 p.m. on Wednesday\, March 23\, 2011 in the Welcome Center at Conner Prairie. For more information\, please email CivilWar@connerprairie.org .
X-ALT-DESC;FMTTYPE=text/html:Conner Prairie is seeking volunteers to portray the 18th Indiana Light Artillery\, the 19th Indiana Volunteer Infantry Co. D and the Soldiers' Aid Society. Members of these groups will provide engaging experiences to Conner Prairie's guests through demonstrations\, participatory activities and interpretations in the new 1863 Civil War Journey opening in June 2011.\n\nAn informational and organizational meeting will be held at 7 p.m. on Wednesday\, March 23\, 2011 in the Welcome Center at Conner Prairie. For more information\, please email CivilWar@connerprairie.org .\n
LOCATION:Conner Prairie is located in Fishers\, Ind.\, just six miles north of Indianapolis on Allisonville Road (exit 5 from Interstate 69 or exit 35 from Interstate 465). Welcome Center parking is free.
UID:e.1538.158
SEQUENCE:3
DTSTAMP:20260421T221249Z
URL:https://business.noblesvillechamber.com/events/details/1863-civil-war-journey-volunteer-informational-meeting-03-23-2011-158
END:VEVENT

END:VCALENDAR
