BEGIN:VCALENDAR
VERSION:2.0
PRODID:-//ChamberMaster//Event Calendar 2.0//EN
METHOD:PUBLISH
X-PUBLISHED-TTL:P3D
REFRESH-INTERVAL:P3D
CALSCALE:GREGORIAN
BEGIN:VEVENT
DTSTART:20130712T230000Z
DTEND:20130713T020000Z
X-MICROSOFT-CDO-ALLDAYEVENT:FALSE
SUMMARY:2013 Cool Creek Summer Concert Series
DESCRIPTION:There's nothing that says summer like a large group of people\, outdoors\, enjoying the weather\, enjoying music and enjoying time with their families! Pack a picnic dinner and meet up with your friends at Cool Creek Park (2000 East 151st Street\, Carmel/Westfield) for the Summer Concert Series!\n\n	 \n\n	The Cool Creek Summer Concert Series kicks off on Friday\, June 14th with an evening of family fun! Gates open at 6pm and concerts begin at 7pm(see performance schedule below). Admission is $5 for adults and free for kids 12 & under.\n\n	 \n\n	June 14   PolkaBoy\n\n	June 21   Cook and Belle\n\n	June 28   Endless Summer Band\n\n	July 12   Flying Toasters\n\n	July 19   Zanna-Doo
X-ALT-DESC;FMTTYPE=text/html:<p class="MsoNoSpacing" style="margin: 0in 0in 0pt">\n	<span style="mso-bidi-font-family: calibri\; mso-bidi-theme-font: minor-latin"><font size="3"><font color="#000000"><font face="Calibri">There&rsquo\;s nothing that says summer like a large group of people\, outdoors\, enjoying the weather\, enjoying music and enjoying time with their families! Pack a picnic dinner and meet up with your friends at Cool Creek Park (2000 East 151st Street\, Carmel/Westfield) for the Summer Concert Series!<o:p></o:p></font></font></font></span></p>\n<p class="MsoNoSpacing" style="margin: 0in 0in 0pt">\n	<span style="mso-bidi-font-family: calibri\; mso-bidi-theme-font: minor-latin"><o:p><font color="#000000" face="Calibri" size="3">&nbsp\;</font></o:p></span></p>\n<p class="MsoNoSpacing" style="margin: 0in 0in 0pt">\n	<span style="mso-bidi-font-family: calibri\; mso-bidi-theme-font: minor-latin"><font size="3"><font color="#000000"><font face="Calibri">The&nbsp\;Cool Creek Summer Concert Series&nbsp\;kicks off on Friday\, June 14th with an evening of family fun! Gates open at 6pm and concerts begin at 7pm(see performance schedule below). Admission is $5 for adults and free for kids 12 &amp\; under.<o:p></o:p></font></font></font></span></p>\n<p class="MsoNoSpacing" style="margin: 0in 0in 0pt">\n	<span style="mso-bidi-font-family: calibri\; mso-bidi-theme-font: minor-latin"><o:p><font color="#000000" face="Calibri" size="3">&nbsp\;</font></o:p></span></p>\n<p class="MsoNoSpacing" style="margin: 0in 0in 0pt">\n	<span style="mso-bidi-font-family: calibri\; mso-bidi-theme-font: minor-latin"><font size="3"><font color="#000000"><font face="Calibri">June 14 &ndash\; PolkaBoy<o:p></o:p></font></font></font></span></p>\n<p class="MsoNoSpacing" style="margin: 0in 0in 0pt">\n	<span style="mso-bidi-font-family: calibri\; mso-bidi-theme-font: minor-latin"><font size="3"><font color="#000000"><font face="Calibri">June 21 &ndash\; Cook and Belle<o:p></o:p></font></font></font></span></p>\n<p class="MsoNoSpacing" style="margin: 0in 0in 0pt">\n	<span style="mso-bidi-font-family: calibri\; mso-bidi-theme-font: minor-latin"><font size="3"><font color="#000000"><font face="Calibri">June 28 &ndash\; Endless Summer Band<o:p></o:p></font></font></font></span></p>\n<p class="MsoNoSpacing" style="margin: 0in 0in 0pt">\n	<span style="mso-bidi-font-family: calibri\; mso-bidi-theme-font: minor-latin"><font size="3"><font color="#000000"><font face="Calibri">July 12 &ndash\; Flying Toasters<o:p></o:p></font></font></font></span></p>\n<p class="MsoNoSpacing" style="margin: 0in 0in 0pt">\n	<span style="mso-bidi-font-family: calibri\; mso-bidi-theme-font: minor-latin"><font size="3"><font color="#000000"><font face="Calibri">July 19 &ndash\; Zanna-Doo<o:p></o:p></font></font></font></span></p>\n
LOCATION:Cool Creek Park
UID:e.1538.474
SEQUENCE:3
DTSTAMP:20260420T021346Z
URL:https://business.noblesvillechamber.com/events/details/2013-cool-creek-summer-concert-series-474
END:VEVENT

END:VCALENDAR
