BEGIN:VCALENDAR
VERSION:2.0
PRODID:-//ChamberMaster//Event Calendar 2.0//EN
METHOD:PUBLISH
X-PUBLISHED-TTL:P3D
REFRESH-INTERVAL:P3D
CALSCALE:GREGORIAN
BEGIN:VEVENT
DTSTART:20140712T210000Z
DTEND:20140713T030000Z
X-MICROSOFT-CDO-ALLDAYEVENT:FALSE
SUMMARY:23rd Annual Noblesville Street Dance
DESCRIPTION:23rd Annual\n\nNoblesville Street Dance\n\nSponsored by Riverview Health and the City of Noblesville\n\n\n\nJuly 12\n\n5-11 PM\n\nOn the Square in Noblesville\n\n\n\nFREE\n\n\n\nMain Stage:\n\nDJ Gene Ott kick things off at 5pm and The Bishops take the stage at 7:30pm.\n\n\n\nKid Zone: Open from 5   8pm. \n\nFree activities in the Kids Zone will include:  carnival games\; video game truck\; rock climbing wall\; Touch a Truck\; airbrush tattoos\; balloon artists\; family-friendly vendors\; and an ice cream eating contest at 7pm. \n\nNew this year is a zip line at the corner of 8th and Logan.  The zipline will cost $7 per person. \n\n\n\nKid Zone Stage Entertainment:\n\n\n	5pm   6pm:  Happily Ever After Productions   Cinderella\, Belle\, and Tiana will perform kids' favorite songs and then be available afterwards for photos.\n	6pm   7pm:  Pink Slipper Dance Studio will perform hip hop\, jazz\, and ballet dance routines.\n	7pm   7:30pm:  Marc Lehmann will perform a magic show.  Marc will also perform strolling magic in the Kids Zone from 6:30pm   7pm.\n	7:30pm   8pm:  Ballerinas Academy of Dance will perform tap\, ballet\, and contemporary dance routines. \n\n\n \n\nDon't forget the free showing of the Disney movie Frozen\, courtesy of The Wafford Theater!  Frozen will be shown behind the Judicial Center beginning at dusk (sometime between 9pm   9:30pm\, depending on how quickly it gets dark). \n\n\n\nThanks to the following sponsors whose support makes the Street Dance possible:  Riverview Health\; the City of Noblesville\; Noblesville Trophies\; Primrose School of Noblesville\; Logan Street Signs & Banners\; Saxony\; The Wafford Theater\; Burtner Electric\, Inc.\; Hamilton County\; The Farmers Bank\; Current in Noblesville\; The Times\; the Hamilton County Reporter\; EarthFare\; Alexander's on the Square\; and Hamilton County Tourism.\n\n\n\n*Please note that volunteers are still needed for this event to help with setup\, the car show\, the Kids Zone\, and teardown.  Various shifts are available.  To volunteer or for more information\, contact Chris Owens at chris@noblesvillemainstreet.org. \n\nFor more information or questions about the Street Dance\, visit www.NoblesvilleMainStreet.org or call (317) 776-0205.
X-ALT-DESC;FMTTYPE=text/html:<div style="text-align: center\;"><span style="color:#000080\;">23rd Annual</span><br />\n<span style="color:#0000CD\;"><span style="font-size: 26px\;">Noblesville Street Dance</span></span><br />\n<span style="color:#000080\;">Sponsored by Riverview Health and the City of Noblesville</span><br />\n<br />\n<strong><span style="font-size:14px\;"><span style="font-size:26px\;"><span style="color: rgb(178\, 34\, 34)\;">July 12<br />\n<span style="font-size:22px\;">5-11 PM</span></span></span><br />\nOn the Square in Noblesville</span></strong><br />\n<br />\n<span style="color:#008080\;"><span style="font-size: 22px\;">FREE</span></span></div>\n\n<div><br />\n<span style="color:#006400\;"><strong>Main Stage:</strong></span><br />\nDJ Gene Ott kick things off at 5pm and The Bishops take the stage at 7:30pm.<br />\n<br />\n<span style="color:#B22222\;"><strong>Kid Zone: </strong></span>Open from 5 &ndash\; 8pm.&nbsp\;<br />\nFree activities in the Kids Zone will include:&nbsp\; carnival games\; video game truck\; rock climbing wall\; Touch a Truck\; airbrush tattoos\; balloon artists\; family-friendly vendors\; and an ice cream eating contest at 7pm.&nbsp\;<br />\nNew this year is a zip line at the corner of 8<sup>th</sup> and Logan.&nbsp\; <strong>The zipline will cost $7 per person.&nbsp\;</strong><br />\n<br />\n<span style="color:#B22222\;"><strong>Kid Zone Stage Entertainment:</strong></span></div>\n\n<ul>\n	<li>5pm &ndash\; 6pm:&nbsp\; Happily Ever After Productions &ndash\; Cinderella\, Belle\, and Tiana will perform kids&rsquo\; favorite songs and then be available afterwards for photos.</li>\n	<li>6pm &ndash\; 7pm:&nbsp\; Pink Slipper Dance Studio will perform hip hop\, jazz\, and ballet dance routines.</li>\n	<li>7pm &ndash\; 7:30pm:&nbsp\; Marc Lehmann will perform a magic show.&nbsp\; Marc will also perform strolling magic in the Kids Zone from 6:30pm &ndash\; 7pm.</li>\n	<li>7:30pm &ndash\; 8pm:&nbsp\; Ballerinas Academy of Dance will perform tap\, ballet\, and contemporary dance routines.&nbsp\;</li>\n</ul>\n\n<div style="text-align: center\;">&nbsp\;</div>\n\n<div><em><span style="color:#4B0082\;">Don&rsquo\;t forget the free showing of the Disney movie Frozen\, courtesy of The Wafford Theater!&nbsp\; Frozen will be shown behind the Judicial Center beginning at dusk (sometime between 9pm &ndash\; 9:30pm\, depending on how quickly it gets dark). </span></em><br />\n<br />\nThanks to the following sponsors whose support makes the Street Dance possible:&nbsp\; Riverview Health\; the City of Noblesville\; Noblesville Trophies\; Primrose School of Noblesville\; Logan Street Signs &amp\; Banners\; Saxony\; The Wafford Theater\; Burtner Electric\, Inc.\; Hamilton County\; The Farmers Bank\; Current in Noblesville\; The Times\; the Hamilton County Reporter\; EarthFare\; Alexander&rsquo\;s on the Square\; and Hamilton County Tourism.<br />\n<br />\n*Please note that volunteers are still needed for this event to help with setup\, the car show\, the Kids Zone\, and teardown.&nbsp\; Various shifts are available.&nbsp\; To volunteer or for more information\, contact Chris Owens at <a href="mailto:chris@noblesvillemainstreet.org">chris@noblesvillemainstreet.org</a>.&nbsp\;<br />\nFor more information or questions about the Street Dance\, visit <a href="http://www.NoblesvilleMainStreet.org">www.NoblesvilleMainStreet.org</a> or call (317) 776-0205.<br />\n&nbsp\;</div>\n
LOCATION:On the Square in Downtown Noblesville
UID:e.1538.654
SEQUENCE:3
DTSTAMP:20260421T083446Z
URL:https://business.noblesvillechamber.com/events/details/23rd-annual-noblesville-street-dance-654
END:VEVENT

END:VCALENDAR
