BEGIN:VCALENDAR
VERSION:2.0
PRODID:-//ChamberMaster//Event Calendar 2.0//EN
METHOD:PUBLISH
X-PUBLISHED-TTL:P3D
REFRESH-INTERVAL:P3D
CALSCALE:GREGORIAN
BEGIN:VEVENT
DTSTART:20130824T130000Z
DTEND:20130824T160000Z
X-MICROSOFT-CDO-ALLDAYEVENT:FALSE
SUMMARY:60 year Celebration and Free Pet Fair
DESCRIPTION:Noblesville Veterinary Clinic is celebrating 60 years of service to central Indiana. Dr. Tim Fleck practices traditional western medicine as well as holistic eastern medicine\, which includes chiropractic\, acupuncture and homeopathic injections and herbs. We have recently added a new veternarian to our staff\, Dr. Renae Swiatkowski.  We will be having a free pet fair that includes a pet costume contest\, free dental screenings\, demonstrations and several pet related vendors. There is also a silent auction and the proceeds will go to the Purdue small animal teaching/research hospital. Come help us celebrate!!
X-ALT-DESC;FMTTYPE=text/html:Noblesville Veterinary Clinic is celebrating 60 years of service to central Indiana. Dr. Tim Fleck practices traditional western medicine as well as holistic eastern medicine\, which includes chiropractic\, acupuncture and homeopathic injections and herbs. We have recently added&nbsp\;a new veternarian to our staff\, Dr. Renae Swiatkowski. &nbsp\;We will be having a free pet fair that includes a pet costume contest\, free dental screenings\, demonstrations and several pet related vendors. There is also a silent auction and the proceeds will go to the Purdue small animal teaching/research hospital. Come help us celebrate!! 
LOCATION:Noblesville Veterinary Clinic\, 3355 E. Conner St
UID:e.1538.496
SEQUENCE:3
DTSTAMP:20260420T004414Z
URL:https://business.noblesvillechamber.com/events/details/60-year-celebration-and-free-pet-fair-496
END:VEVENT

END:VCALENDAR
