BEGIN:VCALENDAR
VERSION:2.0
PRODID:-//ChamberMaster//Event Calendar 2.0//EN
METHOD:PUBLISH
X-PUBLISHED-TTL:P3D
REFRESH-INTERVAL:P3D
CALSCALE:GREGORIAN
BEGIN:VEVENT
DTSTART:20110418T213000Z
DTEND:20110418T223000Z
X-MICROSOFT-CDO-ALLDAYEVENT:FALSE
SUMMARY:7 Threats to Your Family's Security and How to Avoid Them
DESCRIPTION:Life is complicated enough\, protecting your family shouldn't be!\nCome to our FREE Workshop and see how easy protecting your family can be!\nOne hour of your time now\, can save your family months of aggravation in the future.\nDon't wait Call us today to reserve your spot. Seating is Limited!\nPlease call 317-813-0974 to RSVP\nHunter Law Office\, PC
X-ALT-DESC;FMTTYPE=text/html:Life is complicated enough\, protecting your family shouldn't be!\nCome to our FREE Workshop and see how easy protecting your family can be!\nOne hour of your time now\, can save your family months of aggravation in the future.\nDon't wait Call us today to reserve your spot. Seating is Limited!\nPlease call 317-813-0974 to RSVP\nHunter Law Office\, PC
LOCATION:Community Bank Lobby S.E. Corner of State Rd 37 and 126th street
UID:e.1538.160
SEQUENCE:3
DTSTAMP:20260421T204117Z
URL:https://business.noblesvillechamber.com/events/details/7-threats-to-your-family-s-security-and-how-to-avoid-them-04-18-2011-160
END:VEVENT

END:VCALENDAR
