BEGIN:VCALENDAR
VERSION:2.0
PRODID:-//ChamberMaster//Event Calendar 2.0//EN
METHOD:PUBLISH
X-PUBLISHED-TTL:P3D
REFRESH-INTERVAL:P3D
CALSCALE:GREGORIAN
BEGIN:VEVENT
DTSTART:20101203T233000Z
DTEND:20101203T233000Z
X-MICROSOFT-CDO-ALLDAYEVENT:FALSE
SUMMARY:A Carol of Christmas
DESCRIPTION:A Carol of Christmas Dinner Theatre.  An original musical production based on the holiday classic\, A Christmas Carol.  Reserved seat tickets are $15.00 per person.  Doors open at 6:30\, show at 8:00PM.  A great event to use for your annual office party or just an eveing out with family and friends.
X-ALT-DESC;FMTTYPE=text/html:A Carol of Christmas Dinner Theatre.  An original musical production based on the holiday classic\, A Christmas Carol.  Reserved seat tickets are $15.00 per person.  Doors open at 6:30\, show at 8:00PM.  A great event to use for your annual office party or just an eveing out with family and friends.
LOCATION:Located in the main auditorium of Family Praise Center. Near the intersection of Hwy 37 and Greenfield Ave.
UID:e.1538.93
SEQUENCE:3
DTSTAMP:20260422T031307Z
URL:https://business.noblesvillechamber.com/events/details/a-carol-of-christmas-12-03-2010-93
END:VEVENT

END:VCALENDAR
