BEGIN:VCALENDAR
VERSION:2.0
PRODID:-//ChamberMaster//Event Calendar 2.0//EN
METHOD:PUBLISH
X-PUBLISHED-TTL:P3D
REFRESH-INTERVAL:P3D
CALSCALE:GREGORIAN
BEGIN:VEVENT
DTSTART:20101211T003000Z
DTEND:20101210T141500Z
X-MICROSOFT-CDO-ALLDAYEVENT:FALSE
SUMMARY:A Symphony Christmas
DESCRIPTION:A delightful evening of traditional Christmas and holiday favorites\, including Tchaikovsky's "Nutcracker Suite\," an audience sing-a-along\, and some new "twists" on familiar favorites. Local performers will join the NSO for a festive evening of Christmas cheer.\n\nIndividual tickets range -\nAdults $28-$22\nSeniors $26-$18\nStudents $26-$5\n\nDr. Richard Sowers\, conductor
X-ALT-DESC;FMTTYPE=text/html:A delightful evening of traditional Christmas and holiday favorites\, including Tchaikovsky's "Nutcracker Suite\," an audience sing-a-along\, and some new "twists" on familiar favorites. Local performers will join the NSO for a festive evening of Christmas cheer.\n\nIndividual tickets range -\nAdults $28-$22\nSeniors $26-$18\nStudents $26-$5\n\nDr. Richard Sowers\, conductor
LOCATION:Noblesville High School Auditorium Free Parking
UID:e.1538.92
SEQUENCE:3
DTSTAMP:20260422T030838Z
URL:https://business.noblesvillechamber.com/events/details/a-symphony-christmas-12-10-2010-92
END:VEVENT

END:VCALENDAR
