BEGIN:VCALENDAR
VERSION:2.0
PRODID:-//ChamberMaster//Event Calendar 2.0//EN
METHOD:PUBLISH
X-PUBLISHED-TTL:P3D
REFRESH-INTERVAL:P3D
CALSCALE:GREGORIAN
BEGIN:VEVENT
DTSTART:20100330T203000Z
DTEND:20100330T230000Z
X-MICROSOFT-CDO-ALLDAYEVENT:FALSE
SUMMARY:A Taste of Business in Noblesville
DESCRIPTION:This popular annual event\, which is open to the public with a $5 admission\, showcases a wide variety of Chamber member businesses and restaurants.  \n\n	Booth space\, available to Chamber members only\, is limited.  \n\n	Click here for the application.  Deadline for registration is Thursday\, March 9\, 2010.
X-ALT-DESC;FMTTYPE=text/html:<p>\n	<font color="#258381" face="Tahoma">This popular annual event\, which is open to the public with a $5 admission\, showcases a wide variety of Chamber member businesses and restaurants.&nbsp\; </font></p>\n<p>\n	<font color="#258381" face="Tahoma">Booth space\, available&nbsp\;to Chamber members only\, is limited.&nbsp\; </font></p>\n<p>\n	<a href="http://noblesvilleincoc.weblinkconnect.com/external/wcpages/wcwebcontent/webcontentpage.aspx?contentid=68"><font color="#258381" face="Tahoma">Click here</font></a><font color="#258381" face="Tahoma">&nbsp\;for the application.</font>&nbsp\; <font color="#258381" face="Tahoma">Deadline for registration is Thursday\, March 9\, 2010.</font></p>\n
LOCATION:
UID:e.1538.18
SEQUENCE:3
DTSTAMP:20260422T194337Z
URL:https://business.noblesvillechamber.com/events/details/a-taste-of-business-in-noblesville-03-30-2010-18
END:VEVENT

END:VCALENDAR
