BEGIN:VCALENDAR
VERSION:2.0
PRODID:-//ChamberMaster//Event Calendar 2.0//EN
METHOD:PUBLISH
X-PUBLISHED-TTL:P3D
REFRESH-INTERVAL:P3D
CALSCALE:GREGORIAN
BEGIN:VEVENT
DTSTART:20110606T140000Z
DTEND:20110606T140000Z
X-MICROSOFT-CDO-ALLDAYEVENT:FALSE
SUMMARY:Adventure Camp
DESCRIPTION:From water to land to air\, each day is a new adventure! Conquer the White River by canoe and inner tube (ages 8–14) or pedal boat on the pond (ages 5–7). Then\, get down and dirty on the challenge course\, hike the backwoods of Conner Prairie\, slide down the water whoosh in the pond\, fish for big-mouth bass or fly high in the 1859 Balloon Voyage. And new this year try out the equestrian activity\, the 4-way tug-o-war mud pit or the Rock-It Totter and aqua-glide jumping platform on the pond.  With so much land to explore\, there's never a dull moment. Is your child up for the challenge? For more information or to register\, call Guest Services at 317.776.6006\, e-mail info@connerprairie.org or visit connerprairie.org. Camp fee is $195 per week ($180 per week for members) and runs June 6 – July 29.
X-ALT-DESC;FMTTYPE=text/html:From water to land to air\, each day is a new adventure! Conquer the White River by canoe and inner tube (ages 8–14) or pedal boat on the pond (ages 5–7). Then\, get down and dirty on the challenge course\, hike the backwoods of Conner Prairie\, slide down the water whoosh in the pond\, fish for big-mouth bass or fly high in the 1859 Balloon Voyage. And new this year try out the equestrian activity\, the 4-way tug-o-war mud pit or the Rock-It Totter and aqua-glide jumping platform on the pond.  With so much land to explore\, there's never a dull moment. Is your child up for the challenge? For more information or to register\, call Guest Services at 317.776.6006\, e-mail info@connerprairie.org or visit connerprairie.org. Camp fee is $195 per week ($180 per week for members) and runs June 6 – July 29.  
LOCATION:Conner Prairie Interactive History Park
UID:e.1538.172
SEQUENCE:3
DTSTAMP:20260421T172500Z
URL:https://business.noblesvillechamber.com/events/details/adventure-camp-06-06-2011-172
END:VEVENT

END:VCALENDAR
