BEGIN:VCALENDAR
VERSION:2.0
PRODID:-//ChamberMaster//Event Calendar 2.0//EN
METHOD:PUBLISH
X-PUBLISHED-TTL:P3D
REFRESH-INTERVAL:P3D
CALSCALE:GREGORIAN
BEGIN:VEVENT
DTSTART:20130810T140000Z
DTEND:20130810T170000Z
X-MICROSOFT-CDO-ALLDAYEVENT:FALSE
SUMMARY:Ameriana Bank FREE Pet Microchipping - West Carmel
DESCRIPTION:Ameriana Bank has partnered with the Humane Society for Hamilton County to offer FREE microchips to the first 100 pets to attend their FREE Microchipping Event. Microchips help reunite lost pets with their families every minute of every day. Keep your pet safe with the permanent identification guaranteed by microchips. Humane Society for Hamilton County medical staff will be implanting the chips from 10:00am to 1:00pm at the Ameriana Bank West Carmel location. \n\n	 \n\n	One free microchip per household with an additional microchip available to each owner for just $20. After the 100 free microchips are gone\, microchips will be available for $20 while supplies last\, limit two per household. \n\n	 \n\n	For more information about Ameriana's free microchipping event\, speak with an associate at 317-429-1567.
X-ALT-DESC;FMTTYPE=text/html:<p class="MsoNormal" style="margin: 0in 0in 0pt\; line-height: normal\;">\n	<span style="font-family: &quot\;Arial&quot\;\,&quot\;sans-serif&quot\;\; font-size: 12pt\; mso-fareast-font-family: &quot\;Times New Roman&quot\;\;"><font color="#000000">Ameriana Bank has partnered with the Humane Society for Hamilton County to offer FREE microchips to the first 100 pets to attend their FREE Microchipping Event. Microchips help reunite lost pets with their families every minute of every day. Keep your pet safe with the permanent identification guaranteed by microchips. Humane Society for Hamilton County medical staff will be implanting the chips from 10:00am to 1:00pm at the Ameriana Bank West Carmel location. <o:p></o:p></font></span></p>\n<p class="MsoNormal" style="margin: 0in 0in 0pt\; line-height: normal\;">\n	<span style="font-family: &quot\;Arial&quot\;\,&quot\;sans-serif&quot\;\; font-size: 12pt\; mso-fareast-font-family: &quot\;Times New Roman&quot\;\;"><o:p><font color="#000000">&nbsp\;</font></o:p></span></p>\n<p class="MsoNormal" style="margin: 0in 0in 0pt\; line-height: normal\;">\n	<span style="font-family: &quot\;Arial&quot\;\,&quot\;sans-serif&quot\;\;"><font size="3"><font color="#000000">One free microchip per household with an additional microchip available to each owner for just $20. After the 100 free microchips are gone\, microchips will be available for $20 while supplies last\, limit two per household. <span style="color: red\;"><o:p></o:p></span></font></font></span></p>\n<p class="MsoNormal" style="margin: 0in 0in 0pt\; line-height: normal\;">\n	<span style="font-family: &quot\;Arial&quot\;\,&quot\;sans-serif&quot\;\;"><o:p><font color="#000000" size="3">&nbsp\;</font></o:p></span></p>\n<p class="MsoNormal" style="margin: 0in 0in 0pt\; line-height: normal\;">\n	<span style="font-family: &quot\;Arial&quot\;\,&quot\;sans-serif&quot\;\;"><font size="3"><font color="#000000">For more information about Ameriana&rsquo\;s free microchipping event\, speak with an associate at 317-429-1567.<o:p></o:p></font></font></span></p>\n
LOCATION:Ameriana Bank Carmel 3975 West 106th Street Carmel\, IN 46032 317-429-1567
UID:e.1538.507
SEQUENCE:3
DTSTAMP:20260420T005349Z
URL:https://business.noblesvillechamber.com/events/details/ameriana-bank-free-pet-microchipping-west-carmel-507
END:VEVENT

END:VCALENDAR
