BEGIN:VCALENDAR
VERSION:2.0
PRODID:-//ChamberMaster//Event Calendar 2.0//EN
METHOD:PUBLISH
X-PUBLISHED-TTL:P3D
REFRESH-INTERVAL:P3D
CALSCALE:GREGORIAN
BEGIN:VEVENT
DTSTART:20130415T220000Z
DTEND:20130415T230000Z
X-MICROSOFT-CDO-ALLDAYEVENT:FALSE
SUMMARY:Anderson University MBA Information Session
DESCRIPTION:
X-ALT-DESC;FMTTYPE=text/html:
LOCATION:St. Vincent Hospital 2001 W 86th St. Indianapolis\, IN 46260
UID:e.1538.417
SEQUENCE:3
DTSTAMP:20260420T070638Z
URL:https://business.noblesvillechamber.com/events/details/anderson-university-mba-information-session-417
END:VEVENT

END:VCALENDAR
