BEGIN:VCALENDAR
VERSION:2.0
PRODID:-//ChamberMaster//Event Calendar 2.0//EN
METHOD:PUBLISH
X-PUBLISHED-TTL:P3D
REFRESH-INTERVAL:P3D
CALSCALE:GREGORIAN
BEGIN:VEVENT
DTSTART:20120901T150000Z
DTEND:20121031T210000Z
X-MICROSOFT-CDO-ALLDAYEVENT:FALSE
SUMMARY:Apple Store
DESCRIPTION:The Apple Store at Conner Prairie Interactive History Park\, a fall favorite for nearly 20 years\, is open Sept. 1 through Oct. 31\, for this year's Indiana apple season. The store\, operated by the Conner Prairie Alliance\, features many delicious items including gourmet\, hand-dipped caramel apples\, classic apple cider\, apple cider slushies and fun gift items. There is something for every apple lover! Get to the Apple Store before it closes and sink your teeth into one of these fall treats. Admission to Conner Prairie is not required to visit the Apple Store. The Apple Store is open Tuesdays-Sundays September 1-October 30 from 11 a.m.-5 p.m. and October 31 from 11 a.m.-4 p.m.
X-ALT-DESC;FMTTYPE=text/html:The Apple Store at Conner Prairie Interactive History Park\, a fall favorite for nearly 20 years\, is open Sept. 1 through Oct. 31\, for this year&#39\;s Indiana apple season. The store\, operated by the Conner Prairie Alliance\, features many delicious items including gourmet\, hand-dipped caramel apples\, classic apple cider\, apple cider slushies and fun gift items. There is something for every apple lover! Get to the Apple Store before it closes and sink your teeth into one of these fall treats. Admission to Conner Prairie is not required to visit the Apple Store. The Apple Store is open Tuesdays-Sundays September 1-October 30 from 11 a.m.-5 p.m. and October 31 from 11 a.m.-4 p.m. 
LOCATION:Conner Prairie Interactive History Park
UID:e.1538.310
SEQUENCE:3
DTSTAMP:20260420T160942Z
URL:https://business.noblesvillechamber.com/events/details/apple-store-09-01-2012-310
END:VEVENT

END:VCALENDAR
