BEGIN:VCALENDAR
VERSION:2.0
PRODID:-//ChamberMaster//Event Calendar 2.0//EN
METHOD:PUBLISH
X-PUBLISHED-TTL:P3D
REFRESH-INTERVAL:P3D
CALSCALE:GREGORIAN
BEGIN:VEVENT
DTSTART:20100901T150000Z
DTEND:20101031T210000Z
X-MICROSOFT-CDO-ALLDAYEVENT:FALSE
SUMMARY:Apple Store at Conner Prairie
DESCRIPTION:Apple Store\nThe Apple Store at Conner Prairie\, a fall favorite for nearly 20 years\, is open Sept. 1 through Oct. 31\, for this year's Indiana apple season. The store\, operated by the Conner Prairie Alliance\, features many delicious items including gourmet caramel apples and classic apple cider. There is something for every apple lover! Get to the Apple Store before it closes and sink your teeth into one of these treats. Admission to Conner Prairie is not required to visit the Apple Store. Tuesday-Sunday\, 11 a.m.-5 p.m.
X-ALT-DESC;FMTTYPE=text/html:Apple Store\nThe Apple Store at Conner Prairie\, a fall favorite for nearly 20 years\, is open Sept. 1 through Oct. 31\, for this year's Indiana apple season. The store\, operated by the Conner Prairie Alliance\, features many delicious items including gourmet caramel apples and classic apple cider. There is something for every apple lover! Get to the Apple Store before it closes and sink your teeth into one of these treats. Admission to Conner Prairie is not required to visit the Apple Store. Tuesday-Sunday\, 11 a.m.-5 p.m.\n
LOCATION:Conner Prairie
UID:e.1538.74
SEQUENCE:3
DTSTAMP:20260422T062506Z
URL:https://business.noblesvillechamber.com/events/details/apple-store-at-conner-prairie-09-01-2010-74
END:VEVENT

END:VCALENDAR
