BEGIN:VCALENDAR
VERSION:2.0
PRODID:-//ChamberMaster//Event Calendar 2.0//EN
METHOD:PUBLISH
X-PUBLISHED-TTL:P3D
REFRESH-INTERVAL:P3D
CALSCALE:GREGORIAN
BEGIN:VEVENT
DTSTART:20110606T140000Z
DTEND:20110606T140000Z
X-MICROSOFT-CDO-ALLDAYEVENT:FALSE
SUMMARY:Art Camp
DESCRIPTION:Let your child's inner artist shine! Each day offers exciting\, creative outlets for their imaginations. Try it all—weaving\, painting\, drawing\, acting\, pottery and more! Unlike any other camp in the area\, Conner Prairie offers 800 acres of outdoor inspiration including water play in the pond so campers stay active while igniting their creative juices! For more information or to register\, call Guest Services at 317.776.6006\, e-mail info@connerprairie.org or visit connerprairie.org. Camp fee is $195 per week ($180 per week for members) and runs June 6 – July 29.
X-ALT-DESC;FMTTYPE=text/html:Let your child's inner artist shine! Each day offers exciting\, creative outlets for their imaginations. Try it all—weaving\, painting\, drawing\, acting\, pottery and more! Unlike any other camp in the area\, Conner Prairie offers 800 acres of outdoor inspiration including water play in the pond so campers stay active while igniting their creative juices! For more information or to register\, call Guest Services at 317.776.6006\, e-mail info@connerprairie.org or visit connerprairie.org. Camp fee is $195 per week ($180 per week for members) and runs June 6 – July 29.  
LOCATION:Conner Prairie Interactive History Park
UID:e.1538.173
SEQUENCE:3
DTSTAMP:20260421T172454Z
URL:https://business.noblesvillechamber.com/events/details/art-camp-06-06-2011-173
END:VEVENT

END:VCALENDAR
