BEGIN:VCALENDAR
VERSION:2.0
PRODID:-//ChamberMaster//Event Calendar 2.0//EN
METHOD:PUBLISH
X-PUBLISHED-TTL:P3D
REFRESH-INTERVAL:P3D
CALSCALE:GREGORIAN
BEGIN:VEVENT
DTSTART:20111008T140000Z
DTEND:20111008T140000Z
X-MICROSOFT-CDO-ALLDAYEVENT:FALSE
SUMMARY:Arts & Arms Workshop
DESCRIPTION:Enjoy a rare opportunity to work closely with some of the nation's best craftsmen in creating authentic\, 19th-century crafts and trades. Classes cover gunsmithing\, weaving\, pottery\, leather\, horn\, bead and ironwork. New this year\, try out the silver wire inlay class.  Small class sizes in well-equipped facilities allow you to further develop your skills\, whether you're a greenhorn or a pro. Weekend\, evening and weeklong classes available. Reservations required. Call 317.776.6006 or visit connerprairie.org for more information.
X-ALT-DESC;FMTTYPE=text/html:Enjoy a rare opportunity to work closely with some of the nation's best craftsmen in creating authentic\, 19th-century crafts and trades. Classes cover gunsmithing\, weaving\, pottery\, leather\, horn\, bead and ironwork. New this year\, try out the silver wire inlay class.  Small class sizes in well-equipped facilities allow you to further develop your skills\, whether you're a greenhorn or a pro. Weekend\, evening and weeklong classes available. Reservations required. Call 317.776.6006 or visit connerprairie.org for more information.
LOCATION:Conner Prairie
UID:e.1538.200
SEQUENCE:3
DTSTAMP:20260421T112401Z
URL:https://business.noblesvillechamber.com/events/details/arts-arms-workshop-10-08-2011-200
END:VEVENT

END:VCALENDAR
