BEGIN:VCALENDAR
VERSION:2.0
PRODID:-//ChamberMaster//Event Calendar 2.0//EN
METHOD:PUBLISH
X-PUBLISHED-TTL:P3D
REFRESH-INTERVAL:P3D
CALSCALE:GREGORIAN
BEGIN:VEVENT
DTSTART:20110411T050000Z
DTEND:20110411T050000Z
X-MICROSOFT-CDO-ALLDAYEVENT:FALSE
SUMMARY:Aspiring Person Award
DESCRIPTION:The Aspiring Person Award honors and recognizes individuals in the community. These individuals may be volunteers\, organizations and supporters of Aspire Indiana who help clients achieve their goals\, serve as role models in the community\, and demonstrate aspiring characteristics and qualities. \n  \nNominations are now being accepted for this prestigious award. Deadline for submissions is June 30\, 2011.\n\nThe recognition will be given in August at the Noblesville Chamber of Commerce membership luncheon.
X-ALT-DESC;FMTTYPE=text/html:The Aspiring Person Award honors and recognizes individuals in the community. These individuals may be volunteers\, organizations and supporters of Aspire Indiana who help clients achieve their goals\, serve as role models in the community\, and demonstrate aspiring characteristics and qualities. \n  \nNominations are now being accepted for this prestigious award. Deadline for submissions is June 30\, 2011.\n\nThe recognition will be given in August at the Noblesville Chamber of Commerce membership luncheon.  \n\n
LOCATION:Membership Luncheon Harbour Trees Golf Club
UID:e.1538.168
SEQUENCE:3
DTSTAMP:20260421T203918Z
URL:https://business.noblesvillechamber.com/events/details/aspiring-person-award-04-11-2011-168
END:VEVENT

END:VCALENDAR
