BEGIN:VCALENDAR
VERSION:2.0
PRODID:-//ChamberMaster//Event Calendar 2.0//EN
METHOD:PUBLISH
X-PUBLISHED-TTL:P3D
REFRESH-INTERVAL:P3D
CALSCALE:GREGORIAN
BEGIN:VEVENT
DTSTART:20130420T130000Z
DTEND:20130420T163000Z
X-MICROSOFT-CDO-ALLDAYEVENT:FALSE
SUMMARY:Bark For Life of Hamilton County
DESCRIPTION:Bark For Life of Hamilton County\n\n	A Canine Event Supporting The American Cancer Society\n\n	Saturday\, April 20\, 2013 \n\n	10:00am   12:30pm\n\n	Dillon Park \n\n	6001 Edendshall Lane\n\n	Noblesville\, IN 46060\n\n	Registration begins at 9:00 a.m.\n\n	Opening Ceremonies begin at 10:00 a.m.\n\n	Followed by a dog walk\, entertainment and activities\n\n	 \n\n	Registration fee is $20 for the first dog\, $5 for each additional dog\, per owner prior to event. \n\n	Day of event registration is $25 for the first dog\, $5 for each additional dog\, per owner. \n\n	Please remember dogs must be on a leash at all times\n\n	and proof of vaccinations must be presented at time of registration. Please be ready to clean up after \n\n	your four legged friends. Visit our website at RelayForLife.org/barkwestfieldin.
X-ALT-DESC;FMTTYPE=text/html:<p class="MsoNormal" style="line-height: 120%\; margin: 0in 0in 0pt\; vertical-align: middle\; mso-hyphenate: none\; mso-layout-grid-align: none">\n	<span style="line-height: 120%\; font-family: FrutigerBold\; color: #2b0071\; font-size: 14pt\; mso-bidi-font-family: FrutigerBold">Bark For Life of Hamilton County<br />\n	A Canine Event Supporting The American Cancer Society</span></p>\n<p class="MsoNormal" style="line-height: 120%\; margin: 0in 0in 0pt\; vertical-align: middle\; mso-hyphenate: none\; mso-layout-grid-align: none">\n	<span style="line-height: 120%\; font-family: FrutigerBold\; color: #2b0071\; font-size: 14pt\; mso-bidi-font-family: FrutigerBold">Saturday\, April 20\, 2013 <o:p></o:p></span></p>\n<p class="MsoNormal" style="line-height: 120%\; margin: 0in 0in 0pt\; vertical-align: middle\; mso-hyphenate: none\; mso-layout-grid-align: none">\n	<span style="line-height: 120%\; font-family: FrutigerBold\; color: #2b0071\; font-size: 14pt\; mso-bidi-font-family: FrutigerBold">10:00am &ndash\; 12:30pm<o:p></o:p></span></p>\n<p class="MsoNormal" style="line-height: 120%\; margin: 0in 0in 0pt\; vertical-align: middle\; mso-hyphenate: none\; mso-layout-grid-align: none">\n	<span style="line-height: 120%\; font-family: FrutigerBold\; color: #2b0071\; font-size: 14pt\; mso-bidi-font-family: FrutigerBold">Dillon Park <o:p></o:p></span></p>\n<p class="MsoNormal" style="line-height: 120%\; margin: 0in 0in 0pt\; vertical-align: middle\; mso-hyphenate: none\; mso-layout-grid-align: none">\n	<span style="line-height: 120%\; font-family: FrutigerLight\; color: #2b0071\; font-size: 12pt\; mso-bidi-font-family: FrutigerBold">6001 Edendshall Lane<o:p></o:p></span></p>\n<p class="MsoNormal" style="line-height: 120%\; margin: 0in 0in 0pt\; vertical-align: middle\; mso-hyphenate: none\; mso-layout-grid-align: none">\n	<span style="line-height: 120%\; font-family: FrutigerLight\; color: #2b0071\; font-size: 12pt\; mso-bidi-font-family: FrutigerBold">Noblesville\, IN 46060<o:p></o:p></span></p>\n<p class="MsoNormal" style="line-height: 120%\; margin: 0in 0in 0pt\; vertical-align: middle\; mso-hyphenate: none\; mso-layout-grid-align: none">\n	<span style="line-height: 120%\; font-family: FrutigerBold\; color: #2b0071\; font-size: 12pt\; mso-bidi-font-family: FrutigerBold">Registration begins at 9:00 a.m.<o:p></o:p></span></p>\n<p class="MsoNormal" style="line-height: 120%\; margin: 0in 0in 0pt\; vertical-align: middle\; mso-hyphenate: none\; mso-layout-grid-align: none">\n	<span style="line-height: 120%\; font-family: FrutigerBold\; color: #2b0071\; font-size: 12pt\; mso-bidi-font-family: FrutigerBold">Opening Ceremonies begin at 10:00 a.m.<o:p></o:p></span></p>\n<p class="MsoNormal" style="line-height: 120%\; margin: 0in 0in 0pt\; vertical-align: middle\; mso-hyphenate: none\; mso-layout-grid-align: none">\n	<span style="line-height: 120%\; font-family: FrutigerBold\; color: #2b0071\; font-size: 12pt\; mso-bidi-font-family: FrutigerBold">Followed by a dog walk\, entertainment and activities<o:p></o:p></span></p>\n<p class="MsoNormal" style="line-height: 120%\; margin: 0in 0in 0pt\; vertical-align: middle\; mso-hyphenate: none\; mso-layout-grid-align: none">\n	<span style="line-height: 120%\; font-family: FrutigerLight\; color: black\; font-size: 6pt\; mso-bidi-font-family: FrutigerLight"><o:p>&nbsp\;</o:p></span></p>\n<p class="MsoNormal" style="line-height: 120%\; margin: 0in 0in 0pt\; vertical-align: middle\; mso-hyphenate: none\; mso-layout-grid-align: none">\n	<span style="font-family: FrutigerLight\; color: black\; mso-bidi-font-family: FrutigerLight"><font size="2">Registration fee is $20 for the first dog\, $5 for each additional dog\, per owner prior to event. <o:p></o:p></font></span></p>\n<p class="MsoNormal" style="line-height: 120%\; margin: 0in 0in 0pt\; vertical-align: middle\; mso-hyphenate: none\; mso-layout-grid-align: none">\n	<span style="font-family: FrutigerLight\; color: black\; mso-bidi-font-family: FrutigerLight"><font size="2">Day of event registration is $25 for the first dog\, $5 for each additional dog\, per owner. <o:p></o:p></font></span></p>\n<p class="MsoNormal" style="line-height: 120%\; margin: 0in 0in 0pt\; vertical-align: middle\; mso-hyphenate: none\; mso-layout-grid-align: none">\n	<span style="font-family: FrutigerLight\; color: black\; mso-bidi-font-family: FrutigerLight"><font size="2">Please remember dogs must be on a leash at all times<o:p></o:p></font></span></p>\n<p class="MsoNormal" style="line-height: 120%\; margin: 0in 0in 0pt\; vertical-align: middle\; mso-hyphenate: none\; mso-layout-grid-align: none">\n	<span style="font-family: FrutigerLight\; color: black\; mso-bidi-font-family: FrutigerLight"><font size="2">and proof of vaccinations must be presented at time of registration. Please be ready to clean up after <o:p></o:p></font></span></p>\n<p class="MsoNormal" style="line-height: 120%\; margin: 0in 0in 0pt\; vertical-align: middle\; mso-hyphenate: none\; mso-layout-grid-align: none">\n	<font size="2"><span style="font-family: FrutigerLight\; color: black\; mso-bidi-font-family: FrutigerLight">your four legged friends. </span><b style="mso-bidi-font-weight: normal"><span style="font-family: FrutigerLight\; color: #002060\; mso-bidi-font-family: FrutigerLight">Visit our website at RelayForLife.org/barkwestfieldin.</span></b></font><span style="font-family: FrutigerLight\; color: black\; mso-bidi-font-family: FrutigerLight"><o:p></o:p></span></p>\n
LOCATION:Dillon Park 6001 Edendshall Lane Noblesville\, IN 46060
UID:e.1538.420
SEQUENCE:3
DTSTAMP:20260420T070816Z
URL:https://business.noblesvillechamber.com/events/details/bark-for-life-of-hamilton-county-420
END:VEVENT

END:VCALENDAR
