BEGIN:VCALENDAR
VERSION:2.0
PRODID:-//ChamberMaster//Event Calendar 2.0//EN
METHOD:PUBLISH
X-PUBLISHED-TTL:P3D
REFRESH-INTERVAL:P3D
CALSCALE:GREGORIAN
BEGIN:VEVENT
DTSTART:20111107T130000Z
DTEND:20111216T030000Z
X-MICROSOFT-CDO-ALLDAYEVENT:FALSE
SUMMARY:Be a Santa to a Senior
DESCRIPTION:Be a Santa to a Senior is a giving tree program for seniors sponsored by Home Instead Senior Care and Walgreens.  It is a wonderful program that provides gifts for needy seniors who may otherwise go unrecongnized this holiday season due to lack of family or funding.  Names\, along with a few gift ideas\, are given to Home Instead by the social workers in local skilled nursing facilities and case managers from other organizations.  The program ends December 15th and we are still in need of a large number of donations.  Please help us bring joy to our local seniors in need.  For more information about the program visit www.santatoasenior.com.
X-ALT-DESC;FMTTYPE=text/html:Be a Santa to a Senior is a giving tree program for seniors sponsored by Home Instead Senior Care and Walgreens.  It is a wonderful program that provides gifts for needy seniors who may otherwise go unrecongnized this holiday season due to lack of family or funding.  Names\, along with a few gift ideas\, are given to Home Instead by the social workers in local skilled nursing facilities and case managers from other organizations.  The program ends December 15th and we are still in need of a large number of donations.  Please help us bring joy to our local seniors in need.  For more information about the program visit www.santatoasenior.com.  
LOCATION:Please visit one of the Walgreens listed below to select a tag and make a donation. 2380 Pleasant St. Noblesville\, IN 46060 317-770-8653 555 Westfield Road Noblesville\, In 46060
UID:e.1538.214
SEQUENCE:3
DTSTAMP:20260421T081039Z
URL:https://business.noblesvillechamber.com/events/details/be-a-santa-to-a-senior-11-07-2011-214
END:VEVENT

END:VCALENDAR
