BEGIN:VCALENDAR
VERSION:2.0
PRODID:-//ChamberMaster//Event Calendar 2.0//EN
METHOD:PUBLISH
X-PUBLISHED-TTL:P3D
REFRESH-INTERVAL:P3D
CALSCALE:GREGORIAN
BEGIN:VEVENT
DTSTART:20140201T010000Z
DTEND:20140216T030000Z
X-MICROSOFT-CDO-ALLDAYEVENT:FALSE
SUMMARY:Bell\, Book and Candle at The Belfry Theatre
DESCRIPTION:Bell\, Book and Candle\n\n\n\n\n\n	by John Van Druten\n\n	\n\n	Directed by Jeff Bick\n\n	January 31\, February 1\, 7\, 8\, 9\, 14\, 15\, 16\n\n	Prices\, Times and Policies\n\n	Witches aren't supposed to fall in love   aren't\, in fact\, supposed to be able to. So Gillian Holroyd is more than a little surprised\, when after casting a love spell on her neighbor\, she starts experiencing feelings for him. Magic literally brought them together\, but will he still love her\, or even want to be with her\, if she cancels the spell? Will she live without magic? Perhaps love is its own kind of magic. Bewitched(c) meets Harry Potter(c) in this sweet\, romantic comedy   a perfect fit for the Valentine's season.\n\n	 \n\n	Announcing the Cast\n\n\n\n	\n		\n			\n				Character\n			\n				Played by\n		\n	\n	\n		\n			\n				Gillian Holroyd\n			\n				Tamara Rulon\n		\n		\n			\n				Shep Henderson\n			\n				Gavin Rulon\n		\n		\n			\n				Miss Holroyd\n			\n				Carla Crandall\n		\n		\n			\n				Nicky Holroyd\n			\n				John Whitaker\n		\n		\n			\n				Sidney Redlitch\n			\n				Stefan LeBlanc*\n		\n		\n			\n				Door host\n			\n				Duane Leatherman\n		\n		\n			\n				Door host\n			\n				Christina Wolfe*\n		\n	\n\n \n\n\n	\n		\n			\n				* New to the Belfry stage
X-ALT-DESC;FMTTYPE=text/html:<h1 class="entry-title">\n	Bell\, Book and Candle</h1>\n<br />\n<br />\n<p class="playwright">\n	by John Van Druten</p>\n<p>\n	<br />\n	Directed by Jeff Bick<br />\n	<i>January 31\, February 1\, 7\, 8\, 9\, 14\, 15\, 16</i><br />\n	<a href="http://www.thebelfrytheatre.com/tickets/">Prices\, Times and Policies</a></p>\n<p>\n	Witches aren&rsquo\;t supposed to fall in love &ndash\; aren&rsquo\;t\, in fact\, supposed to be able to. So Gillian Holroyd is more than a little surprised\, when after casting a love spell on her neighbor\, she starts experiencing feelings for him. Magic literally brought them together\, but will he still love her\, or even want to be with her\, if she cancels the spell? Will she live without magic? Perhaps love is its own kind of magic. Bewitched(c) meets Harry Potter(c) in this sweet\, romantic comedy &ndash\; a perfect fit for the Valentine&rsquo\;s season.<br />\n	&nbsp\;</p>\n<h3>\n	Announcing the Cast</h3>\n<br />\n<table height="172" width="231">\n	<thead>\n		<tr>\n			<th>\n				Character</th>\n			<th>\n				Played by</th>\n		</tr>\n	</thead>\n	<tbody>\n		<tr>\n			<td style="text-align: center\;">\n				Gillian Holroyd</td>\n			<td style="text-align: center\;">\n				Tamara Rulon</td>\n		</tr>\n		<tr>\n			<td style="text-align: center\;">\n				Shep Henderson</td>\n			<td style="text-align: center\;">\n				Gavin Rulon</td>\n		</tr>\n		<tr>\n			<td style="text-align: center\;">\n				Miss Holroyd</td>\n			<td style="text-align: center\;">\n				Carla Crandall</td>\n		</tr>\n		<tr>\n			<td style="text-align: center\;">\n				Nicky Holroyd</td>\n			<td style="text-align: center\;">\n				John Whitaker</td>\n		</tr>\n		<tr>\n			<td style="text-align: center\;">\n				Sidney Redlitch</td>\n			<td style="text-align: center\;">\n				Stefan LeBlanc*</td>\n		</tr>\n		<tr>\n			<td style="text-align: center\;">\n				Door host</td>\n			<td style="text-align: center\;">\n				Duane Leatherman</td>\n		</tr>\n		<tr>\n			<td style="text-align: center\;">\n				Door host</td>\n			<td style="text-align: center\;">\n				Christina Wolfe*</td>\n		</tr>\n	</tbody>\n</table>\n&nbsp\;<br />\n<table cellpadding="1" cellspacing="1" height="22" width="168">\n	<tbody>\n		<tr>\n			<td>\n				* New to the Belfry stage</td>\n		</tr>\n	</tbody>\n</table>\n
LOCATION:The Belfry Theatre 10690 Greenfield Ave. Noblesville\, IN
UID:e.1538.565
SEQUENCE:3
DTSTAMP:20260419T160203Z
URL:https://business.noblesvillechamber.com/events/details/bell-book-and-candle-at-the-belfry-theatre-565
END:VEVENT

END:VCALENDAR
