BEGIN:VCALENDAR
VERSION:2.0
PRODID:-//ChamberMaster//Event Calendar 2.0//EN
METHOD:PUBLISH
X-PUBLISHED-TTL:P3D
REFRESH-INTERVAL:P3D
CALSCALE:GREGORIAN
BEGIN:VEVENT
DTSTART:20101120T160000Z
DTEND:20101120T210000Z
X-MICROSOFT-CDO-ALLDAYEVENT:FALSE
SUMMARY:Best Dressed Colts Pet Fan
DESCRIPTION:All the money for dogwashes today between 11 am and 4 pm will go to the USA Dogs Great Dane Rescue.\nCome out and support this great cause.
X-ALT-DESC;FMTTYPE=text/html:All the money for dogwashes today between 11 am and 4 pm will go to the USA Dogs Great Dane Rescue.\nCome out and support this great cause.
LOCATION:PET SUPPLIES "PLUS" 521 Noble Creek Drive Noblesville\, IN 46060
UID:e.1538.89
SEQUENCE:3
DTSTAMP:20260422T045635Z
URL:https://business.noblesvillechamber.com/events/details/best-dressed-colts-pet-fan-11-20-2010-89
END:VEVENT

END:VCALENDAR
