BEGIN:VCALENDAR
VERSION:2.0
PRODID:-//ChamberMaster//Event Calendar 2.0//EN
METHOD:PUBLISH
X-PUBLISHED-TTL:P3D
REFRESH-INTERVAL:P3D
CALSCALE:GREGORIAN
BEGIN:VEVENT
DTSTART:20120202T150000Z
DTEND:20120226T200000Z
X-MICROSOFT-CDO-ALLDAYEVENT:FALSE
SUMMARY:Black History Month
DESCRIPTION:Thursdays – Sundays \n10 a.m. – 3 p.m. \nLearn more about the impact African Americans have had on American history. At Conner Prairie you can test your knowledge about African American politicians\, gold medalists\, business leaders\, sports professionals\, civil rights leaders\, astronomers\, mathematicians\, surveyors and much more. For more information\, call (317) 776-6006 or visit www.connerprairie.org
X-ALT-DESC;FMTTYPE=text/html:Thursdays – Sundays \n10 a.m. – 3 p.m. \nLearn more about the impact African Americans have had on American history. At Conner Prairie you can test your knowledge about African American politicians\, gold medalists\, business leaders\, sports professionals\, civil rights leaders\, astronomers\, mathematicians\, surveyors and much more. For more information\, call (317) 776-6006 or visit www.connerprairie.org\n
LOCATION:Conner Prairie
UID:e.1538.239
SEQUENCE:3
DTSTAMP:20260421T043603Z
URL:https://business.noblesvillechamber.com/events/details/black-history-month-02-02-2012-239
END:VEVENT

END:VCALENDAR
