BEGIN:VCALENDAR
VERSION:2.0
PRODID:-//ChamberMaster//Event Calendar 2.0//EN
METHOD:PUBLISH
X-PUBLISHED-TTL:P3D
REFRESH-INTERVAL:P3D
CALSCALE:GREGORIAN
BEGIN:VEVENT
DTSTART:20100825T150000Z
DTEND:20100825T180000Z
X-MICROSOFT-CDO-ALLDAYEVENT:FALSE
SUMMARY:Block Party
DESCRIPTION:Prairie Lakes Health Campus will be hosting a Block Party on Sept. 25th from 11 am -2 pm for the community. We will be having a hog roast and all donations will go to The Alzheimer's Association.  We will have an array of games and activities for families including a bounce house for kids.  We will have vendors\, entertainment\, health screenings and lots of great food for all to enjoy! Please come out and have a fun time with us!
X-ALT-DESC;FMTTYPE=text/html:Prairie Lakes Health Campus will be hosting a Block Party on Sept. 25th from 11 am -2 pm for the community. We will be having a hog roast and all donations will go to The Alzheimer's Association.  We will have an array of games and activities for families including a bounce house for kids.  We will have vendors\, entertainment\, health screenings and lots of great food for all to enjoy! Please come out and have a fun time with us!
LOCATION:We will have our party in the parking lot (146th and Cumberland behind the new Community building)
UID:e.1538.73
SEQUENCE:3
DTSTAMP:20260422T095616Z
URL:https://business.noblesvillechamber.com/events/details/block-party-08-25-2010-73
END:VEVENT

END:VCALENDAR
