BEGIN:VCALENDAR
VERSION:2.0
PRODID:-//ChamberMaster//Event Calendar 2.0//EN
METHOD:PUBLISH
X-PUBLISHED-TTL:P3D
REFRESH-INTERVAL:P3D
CALSCALE:GREGORIAN
BEGIN:VEVENT
DTSTART:20131019T130000Z
DTEND:20131019T160000Z
X-MICROSOFT-CDO-ALLDAYEVENT:FALSE
SUMMARY:BloodMobile at Honda of Fishers
DESCRIPTION:Honda of Fishers is hosting the Indiana Blood Center's bloodmobile on October 19th from 9:00 am - Noon.  We hope you can join us.  IndianaBood.org
X-ALT-DESC;FMTTYPE=text/html:Honda of Fishers is hosting the Indiana Blood Center&#39\;s bloodmobile on October 19th from 9:00 am - Noon.&nbsp\; We hope you can join us.&nbsp\; IndianaBood.org<br />\n
LOCATION:Honda of Fishers\, on Highway 37 just north of 135th Place.
UID:e.1538.532
SEQUENCE:3
DTSTAMP:20260419T214537Z
URL:https://business.noblesvillechamber.com/events/details/bloodmobile-at-honda-of-fishers-532
END:VEVENT

END:VCALENDAR
