BEGIN:VCALENDAR
VERSION:2.0
PRODID:-//ChamberMaster//Event Calendar 2.0//EN
METHOD:PUBLISH
X-PUBLISHED-TTL:P3D
REFRESH-INTERVAL:P3D
CALSCALE:GREGORIAN
BEGIN:VEVENT
DTSTART:20120624T213000Z
DTEND:20120624T213000Z
X-MICROSOFT-CDO-ALLDAYEVENT:FALSE
SUMMARY:Bobby A. Mills Memorial Golf Outing
DESCRIPTION:The Bobby Mills Golf Outing will be held on Sunday\, June 24 (dinner and silent auction) and Monday\, June 25 (Golf Outing) at Harbour Trees Golf Club in Noblesville.  This two-day event is being held in honor of Bobby who impacted the lives of countless young people.  With that in minds\, Noblesville Youth Baseball\, Noblesville Youth Softball and Noblesville Girls Basketball have come together to host an annual event to pay tribute.
X-ALT-DESC;FMTTYPE=text/html:The Bobby Mills Golf Outing will be held on Sunday\, June 24 (dinner and silent auction) and Monday\, June 25 (Golf Outing) at Harbour Trees Golf Club in Noblesville.  This two-day event is being held in honor of Bobby who impacted the lives of countless young people.  With that in minds\, Noblesville Youth Baseball\, Noblesville Youth Softball and Noblesville Girls Basketball have come together to host an annual event to pay tribute.
LOCATION:Harbour Trees Golf Club
UID:e.1538.313
SEQUENCE:3
DTSTAMP:20260420T221443Z
URL:https://business.noblesvillechamber.com/events/details/bobby-a-mills-memorial-golf-outing-06-24-2012-313
END:VEVENT

END:VCALENDAR
