BEGIN:VCALENDAR
VERSION:2.0
PRODID:-//ChamberMaster//Event Calendar 2.0//EN
METHOD:PUBLISH
X-PUBLISHED-TTL:P3D
REFRESH-INTERVAL:P3D
CALSCALE:GREGORIAN
BEGIN:VEVENT
DTSTART:20150416T200000Z
DTEND:20150416T220000Z
X-MICROSOFT-CDO-ALLDAYEVENT:FALSE
SUMMARY:Center of Excellence Ribbon Cutting
DESCRIPTION:You are invited to attend the Miller Consulting Group Center of Excellence Ribbon Cutting.
X-ALT-DESC;FMTTYPE=text/html:You are invited to attend the Miller Consulting Group Center of Excellence Ribbon Cutting.
LOCATION:984 Logan Street Noblesville\, Indiana 46060 Nova 29 Building
UID:e.1538.865
SEQUENCE:3
DTSTAMP:20260421T100611Z
URL:https://business.noblesvillechamber.com/events/details/center-of-excellence-ribbon-cutting-865
END:VEVENT

END:VCALENDAR
