BEGIN:VCALENDAR
VERSION:2.0
PRODID:-//ChamberMaster//Event Calendar 2.0//EN
METHOD:PUBLISH
X-PUBLISHED-TTL:P3D
REFRESH-INTERVAL:P3D
CALSCALE:GREGORIAN
BEGIN:VEVENT
DTSTART:20251023T150000Z
DTEND:20251023T190000Z
X-MICROSOFT-CDO-ALLDAYEVENT:FALSE
SUMMARY:Centier Bank Indy Career Fair
DESCRIPTION:You're Invited: Centier Bank Indy Career Fair! \n\nWhere: Carmel Branch\, 650 E Carmel Drive. Suite 100. Carmel\, Indiana 46032\n\nWhen: Thursday\, October 23rd\n\nTime: 11:00 AM - 3:00 PM EST\n\n\n\nLooking to take the next step in your career?  Join us for a career fair at our Carmel Branch! This is a great opportunity to:\n\n1.     Meet with members of our HR team\n\n2.     Learn more about exciting job openings in the Indianapolis market\n\n3.     Ask questions and explore how you can join the Centier team Whether you're actively job hunting or just curious about new opportunities\, we'd love to meet you!\n\n\n\nNo appointment necessary   just stop by!\n\n\n\nAvailable Opportunities:\n\n       Universal Banker\n\n       Assistant Branch Manager\n\n       Branch Manager\n\n       Commercial Banking Officer\n\n       Mortgage Loan Officer\n\n       Commercial Credit Underwriter
X-ALT-DESC;FMTTYPE=text/html:<span style="background-color:rgb(255\, 255\, 255)\; color:rgba(0\, 0\, 0\, 0.9)\; font-family:-apple-system\,system-ui\,blinkmacsystemfont\,segoe ui\,roboto\,helvetica neue\,fira sans\,ubuntu\,oxygen\,oxygen sans\,cantarell\,droid sans\,apple color emoji\,segoe ui emoji\,segoe ui emoji\,segoe ui symbol\,lucida grande\,helvetica\,arial\,sans-serif\; font-size:14px">You&#39\;re Invited: Centier Bank Indy Career Fair!&nbsp\;<br />\nWhere:&nbsp\;Carmel Branch\, 650 E Carmel Drive. Suite 100. Carmel\, Indiana 46032<br />\nWhen:&nbsp\;Thursday\, October 23rd<br />\nTime:&nbsp\;11:00 AM - 3:00 PM EST<br />\n<br />\nLooking to take the next step in your career?&nbsp\; Join us for a career fair at our Carmel Branch! This is a great opportunity to:<br />\n1.&nbsp\;&nbsp\;&nbsp\;&nbsp\;&nbsp\;Meet with members of our HR team<br />\n2.&nbsp\;&nbsp\;&nbsp\;&nbsp\;&nbsp\;Learn more about exciting job openings in the Indianapolis market<br />\n3.&nbsp\;&nbsp\;&nbsp\;&nbsp\;&nbsp\;Ask questions and explore how you can join the Centier team Whether you&#39\;re actively job hunting or just curious about new opportunities\, we&#39\;d love to meet you!<br />\n<br />\nNo appointment necessary &ndash\; just stop by!<br />\n<br />\nAvailable Opportunities:<br />\n&middot\;&nbsp\;&nbsp\;&nbsp\;&nbsp\;&nbsp\;&nbsp\;Universal Banker<br />\n&middot\;&nbsp\;&nbsp\;&nbsp\;&nbsp\;&nbsp\;&nbsp\;Assistant Branch Manager<br />\n&middot\;&nbsp\;&nbsp\;&nbsp\;&nbsp\;&nbsp\;&nbsp\;Branch Manager<br />\n&middot\;&nbsp\;&nbsp\;&nbsp\;&nbsp\;&nbsp\;&nbsp\;Commercial Banking Officer<br />\n&middot\;&nbsp\;&nbsp\;&nbsp\;&nbsp\;&nbsp\;&nbsp\;Mortgage Loan Officer<br />\n&middot\;&nbsp\;&nbsp\;&nbsp\;&nbsp\;&nbsp\;&nbsp\;Commercial Credit Underwriter</span>
LOCATION:Centier Bank - Carmel Branch 650 E Carmel Drive. Suite 100. Carmel\, Indiana 46032
UID:e.1538.4906
SEQUENCE:3
DTSTAMP:20260423T193402Z
URL:https://business.noblesvillechamber.com/events/details/centier-bank-indy-career-fair-4906
END:VEVENT

END:VCALENDAR
