BEGIN:VCALENDAR
VERSION:2.0
PRODID:-//ChamberMaster//Event Calendar 2.0//EN
METHOD:PUBLISH
X-PUBLISHED-TTL:P3D
REFRESH-INTERVAL:P3D
CALSCALE:GREGORIAN
BEGIN:VEVENT
DTSTART:20091209T130000Z
DTEND:20091209T143000Z
X-MICROSOFT-CDO-ALLDAYEVENT:FALSE
SUMMARY:Chamber University Session
DESCRIPTION:Chamber University session\, "Work/Life Balance"\n\n$25 Chamber members\n$50 Non-members\n\nPre-pay only
X-ALT-DESC;FMTTYPE=text/html:Chamber University session\, "Work/Life Balance"\n\n$25 Chamber members\n$50 Non-members\n\nPre-pay only
LOCATION:Chamber office - 601 E. Conner Street
UID:e.1538.59
SEQUENCE:3
DTSTAMP:20260422T224503Z
URL:https://business.noblesvillechamber.com/events/details/chamber-university-session-12-09-2009-59
END:VEVENT

END:VCALENDAR
