BEGIN:VCALENDAR
VERSION:2.0
PRODID:-//ChamberMaster//Event Calendar 2.0//EN
METHOD:PUBLISH
X-PUBLISHED-TTL:P3D
REFRESH-INTERVAL:P3D
CALSCALE:GREGORIAN
BEGIN:VEVENT
DTSTART:20130919T200000Z
DTEND:20130920T010000Z
X-MICROSOFT-CDO-ALLDAYEVENT:FALSE
SUMMARY:Chico's 30th Anniversary
DESCRIPTION:
X-ALT-DESC;FMTTYPE=text/html:
LOCATION:Chico's Hamilton Town Center
UID:e.1538.527
SEQUENCE:3
DTSTAMP:20260420T004143Z
URL:https://business.noblesvillechamber.com/events/details/chico-s-30th-anniversary-527
END:VEVENT

END:VCALENDAR
