BEGIN:VCALENDAR
VERSION:2.0
PRODID:-//ChamberMaster//Event Calendar 2.0//EN
METHOD:PUBLISH
X-PUBLISHED-TTL:P3D
REFRESH-INTERVAL:P3D
CALSCALE:GREGORIAN
BEGIN:VEVENT
DTSTART:20240711T130000Z
DTEND:20240711T153000Z
X-MICROSOFT-CDO-ALLDAYEVENT:FALSE
SUMMARY:Childcare - Employer Roundtable (Bridging the Workforce Gap BWG)
DESCRIPTION:While nearly 5\,000 children aged 0 to 3 live in Noblesville\, local child care programs have capacity for less than 2\,000 children.\n\n\n\nJoin us for an engaging discussion and idea gathering session with the Noblesville Chamber and Child Care Answers on the effects of childcare issues on workers and the workplace.  Learn about 2024 legislative changes and their possible effects on your business. Come prepared to plan for the future and make an impact!\n\n\n\nThis roundtable is one of many activities through our Bridging the Workforce Gap (BWG) initiative.
X-ALT-DESC;FMTTYPE=text/html:<strong><em><span style="font-size:16px\;">While nearly 5\,000 children aged 0 to 3 live in Noblesville\, local child care programs have capacity for less than 2\,000 children.</span></em></strong><br />\n<br />\n<span style="font-size:16px\;"><span style="font-size:14px\;">Join us for an engaging discussion and idea gathering session with the Noblesville Chamber and Child Care Answers on the effects of childcare issues on workers and the workplace.&nbsp\; Learn about 2024 legislative changes and their possible effects on your business. Come prepared to plan for the future and make an impact!</span></span><br />\n<br />\n<em><span style="font-size:14px\;">This roundtable is one of many activities through our <strong>Bridging the Workforce Gap</strong> (BWG) initiative.</span></em><br />\n&nbsp\;
LOCATION:Noblesville Chamber Offices (Hamilton East Public Library) 1 Library Plaza Noblesville. IN 46060
UID:e.1538.4809
SEQUENCE:3
DTSTAMP:20260425T233317Z
URL:https://business.noblesvillechamber.com/events/details/childcare-employer-roundtable-bridging-the-workforce-gap-bwg-4809
END:VEVENT

END:VCALENDAR
