BEGIN:VCALENDAR
VERSION:2.0
PRODID:-//ChamberMaster//Event Calendar 2.0//EN
METHOD:PUBLISH
X-PUBLISHED-TTL:P3D
REFRESH-INTERVAL:P3D
CALSCALE:GREGORIAN
BEGIN:VEVENT
DTSTART:20101202T123000Z
DTEND:20101215T230000Z
X-MICROSOFT-CDO-ALLDAYEVENT:FALSE
SUMMARY:Children's Bureau "ANGEL TREE"
DESCRIPTION:HCC is working with the Children's Bureau in helping make a childs wish come true.\nHCC has an ANGEL TREE in our office with 5 families that have 3 or more children. \nIf you would like to help fulfill a childs wish come by the office and pick your ANGEL. Best Wishes to you & Happy Holidays
X-ALT-DESC;FMTTYPE=text/html:HCC is working with the Children's Bureau in helping make a childs wish come true.\nHCC has an ANGEL TREE in our office with 5 families that have 3 or more children. \nIf you would like to help fulfill a childs wish come by the office and pick your ANGEL. Best Wishes to you & Happy Holidays
LOCATION:3rd blding on the right going North on Lakeview Drive. Cross street is Logan
UID:e.1538.98
SEQUENCE:3
DTSTAMP:20260422T031031Z
URL:https://business.noblesvillechamber.com/events/details/children-s-bureau-angel-tree-12-02-2010-98
END:VEVENT

END:VCALENDAR
