BEGIN:VCALENDAR
VERSION:2.0
PRODID:-//ChamberMaster//Event Calendar 2.0//EN
METHOD:PUBLISH
X-PUBLISHED-TTL:P3D
REFRESH-INTERVAL:P3D
CALSCALE:GREGORIAN
BEGIN:VEVENT
DTSTART:20110809T223000Z
DTEND:20110809T233000Z
X-MICROSOFT-CDO-ALLDAYEVENT:FALSE
SUMMARY:Civil War Book Club!
DESCRIPTION:Dig deep into the history and literature of the Civil War! Join Conner Prairie scholars four Tuesday evenings beginning June 14 from 6:30–7:30 pm in The Overlook for a lively discussion of both fiction and non-fiction titles. The program culminates with an October 11th showing of the war drama Friendly Persuasion. The Book Club is FREE and Conner Prairie members receive a 10% discount on all Book Club titles purchased in the Conner Prairie Store. Join us August 9th for a discussion over We Look Like Men of War by William R. Fortschen! For a list of all the books and more information visit our website at: http://civilwar.connerprairie.org/share/calendar or call 317.776.6006
X-ALT-DESC;FMTTYPE=text/html:Dig deep into the history and literature of the Civil War! Join Conner Prairie scholars four Tuesday evenings beginning June 14 from 6:30–7:30 pm in The Overlook for a lively discussion of both fiction and non-fiction titles. The program culminates with an October 11th showing of the war drama Friendly Persuasion. The Book Club is FREE and Conner Prairie members receive a 10% discount on all Book Club titles purchased in the Conner Prairie Store. Join us August 9th for a discussion over We Look Like Men of War by William R. Fortschen! For a list of all the books and more information visit our website at: http://civilwar.connerprairie.org/share/calendar or call 317.776.6006
LOCATION:Conner Prairie
UID:e.1538.194
SEQUENCE:3
DTSTAMP:20260421T143553Z
URL:https://business.noblesvillechamber.com/events/details/civil-war-book-club-08-09-2011-194
END:VEVENT

END:VCALENDAR
