BEGIN:VCALENDAR
VERSION:2.0
PRODID:-//ChamberMaster//Event Calendar 2.0//EN
METHOD:PUBLISH
X-PUBLISHED-TTL:P3D
REFRESH-INTERVAL:P3D
CALSCALE:GREGORIAN
BEGIN:VEVENT
DTSTART:20110614T223000Z
DTEND:20111011T233000Z
X-MICROSOFT-CDO-ALLDAYEVENT:FALSE
SUMMARY:Civil War Book Club at Conner Prairie
DESCRIPTION:Dig deep into the history and literature of the Civil War! Join Conner Prairie scholars four Tuesday evenings from 6:30-7:30pm in The Overlook for a lively discussion of both fiction and non-fiction titles. The program culminates with an October 11th showing of the war drama Friendly Persuasion. The Book Club is FREE and Conner Prairie members receive a 10% discount on all Book Club titles purchased in the Conner Prairie Store. July 12th will be a discussion over The Widows' War by Mary Mackey. See our website for more details!
X-ALT-DESC;FMTTYPE=text/html:Dig deep into the history and literature of the Civil War! Join Conner Prairie scholars four Tuesday evenings from 6:30-7:30pm in The Overlook for a lively discussion of both fiction and non-fiction titles. The program culminates with an October 11th showing of the war drama Friendly Persuasion. The Book Club is FREE and Conner Prairie members receive a 10% discount on all Book Club titles purchased in the Conner Prairie Store. July 12th will be a discussion over The Widows' War by Mary Mackey. See our website for more details! 
LOCATION:Conner Prairie
UID:e.1538.189
SEQUENCE:3
DTSTAMP:20260421T125503Z
URL:https://business.noblesvillechamber.com/events/details/civil-war-book-club-at-conner-prairie-06-14-2011-189
END:VEVENT

END:VCALENDAR
