BEGIN:VCALENDAR
VERSION:2.0
PRODID:-//ChamberMaster//Event Calendar 2.0//EN
METHOD:PUBLISH
X-PUBLISHED-TTL:P3D
REFRESH-INTERVAL:P3D
CALSCALE:GREGORIAN
BEGIN:VEVENT
DTSTART:20120519T140000Z
DTEND:20120520T210000Z
X-MICROSOFT-CDO-ALLDAYEVENT:FALSE
SUMMARY:Civil War Days
DESCRIPTION:Watch eyes grow wide when horses charge and cannons roar as reenactors from across the country bring an1860s battle to life again. Young and old can learn firsthand what the Civil War was about from both Union and Confederate soldiers at Conner Prairie Interactive History Park. Create a memory sure to last a lifetime when you experience the Civil War for yourself. A battle reenactment will take place each day at 2 p.m. Saturday\, May 19 and Sunday\, May 20 from 10 a.m.-5 p.m. Admission is $14/adult\, $13/seniors 65+\, $9/youth (ages 2-12)\, free for members and youth under 2. Past and present military personnel receive free admission and half-price admission for immediate family members. For more information\, call (317) 776-6006 or (800) 966-1836 or visit www.connerprairie.org.
X-ALT-DESC;FMTTYPE=text/html:Watch eyes grow wide when horses charge and cannons roar as reenactors from across the country bring an1860s battle to life again. Young and old can learn firsthand what the Civil War was about from both Union and Confederate soldiers at Conner Prairie Interactive History Park. Create a memory sure to last a lifetime when you experience the Civil War for yourself. A battle reenactment will take place each day at 2 p.m. Saturday\, May 19 and Sunday\, May 20 from 10 a.m.-5 p.m. Admission is $14/adult\, $13/seniors 65+\, $9/youth (ages 2-12)\, free for members and youth under 2. Past and present military personnel receive free admission and half-price admission for immediate family members. For more information\, call (317) 776-6006 or (800) 966-1836 or visit www.connerprairie.org.
LOCATION:Conner Prairie
UID:e.1538.253
SEQUENCE:3
DTSTAMP:20260420T234529Z
URL:https://business.noblesvillechamber.com/events/details/civil-war-days-05-19-2012-253
END:VEVENT

END:VCALENDAR
