BEGIN:VCALENDAR
VERSION:2.0
PRODID:-//ChamberMaster//Event Calendar 2.0//EN
METHOD:PUBLISH
X-PUBLISHED-TTL:P3D
REFRESH-INTERVAL:P3D
CALSCALE:GREGORIAN
BEGIN:VEVENT
DTSTART:20110521T150000Z
DTEND:20110522T210000Z
X-MICROSOFT-CDO-ALLDAYEVENT:FALSE
SUMMARY:Civil War Days
DESCRIPTION:Horses charge across the open field and cannons roar as re-enactors from across the Midwest bring the Civil War era to life again. Marking the 150th anniversary of the war\, special programs will highlight the stories of Indiana regiments that fought in the Civil War. Representative from living history groups portraying these Indiana regiments will discuss their uniform\, equipment\, campaigns and battles fought. Young and old can learn firsthand from re-enactors portraying Union and Confederate soldiers. Create a memory sure to last a lifetime when you experience the Civil War for yourself at Conner Prairie. Saturday\, May 21\, 10 a.m. – 5 p.m. and Sunday\, May 22\, 11 a.m. – 5 p.m. Admission is $14/adults\, $13/seniors 65+\, $9/youth (ages 2-12)\, free for members and youth under 2. Past and present military personnel receive free admission and half price admission for immediate family members. Call 317.776.6006 or visit connerprairie.org for more information.
X-ALT-DESC;FMTTYPE=text/html:Horses charge across the open field and cannons roar as re-enactors from across the Midwest bring the Civil War era to life again. Marking the 150th anniversary of the war\, special programs will highlight the stories of Indiana regiments that fought in the Civil War. Representative from living history groups portraying these Indiana regiments will discuss their uniform\, equipment\, campaigns and battles fought. Young and old can learn firsthand from re-enactors portraying Union and Confederate soldiers. Create a memory sure to last a lifetime when you experience the Civil War for yourself at Conner Prairie. Saturday\, May 21\, 10 a.m. – 5 p.m. and Sunday\, May 22\, 11 a.m. – 5 p.m. Admission is $14/adults\, $13/seniors 65+\, $9/youth (ages 2-12)\, free for members and youth under 2. Past and present military personnel receive free admission and half price admission for immediate family members. Call 317.776.6006 or visit connerprairie.org for more information.
LOCATION:Conner Prairie Interactive History Park
UID:e.1538.157
SEQUENCE:3
DTSTAMP:20260421T190450Z
URL:https://business.noblesvillechamber.com/events/details/civil-war-days-05-21-2011-157
END:VEVENT

END:VCALENDAR
