BEGIN:VCALENDAR
VERSION:2.0
PRODID:-//ChamberMaster//Event Calendar 2.0//EN
METHOD:PUBLISH
X-PUBLISHED-TTL:P3D
REFRESH-INTERVAL:P3D
CALSCALE:GREGORIAN
BEGIN:VEVENT
DTSTART:20240807T120000Z
DTEND:20240807T130000Z
X-MICROSOFT-CDO-ALLDAYEVENT:FALSE
SUMMARY:Coffee Roaster with the Young Professionals Network - August 2024
DESCRIPTION:Join the Noblesville Chamber's Young Professionals Network in our 2024 Coffee Roaster Series!\n\n\n\nWe spotlight businesses & leaders all around Noblesville on the first Wednesday of each month.\n\nGet engaged\, be informed\, and take your networking to the next level. Join us as we shine the spotlight on Onya Marketing! Ever wonder about your marketing strategy\, social media posts\, branding\, messaging\, TikTok\, Google\, purchasing adds\, boosting posts... (The list goes on!). Join us Wednesday\, August 7th at CoHatch in the Hamilton Town Center and we'll all learn a little and network with an industry expert!
X-ALT-DESC;FMTTYPE=text/html:Join the Noblesville Chamber&#39\;s Young Professionals Network in our 2024 Coffee Roaster Series!<br />\n<br />\nWe spotlight businesses &amp\; leaders all around Noblesville on the first Wednesday of each month.<br />\nGet engaged\, be informed\, and take your networking to the next level. Join us as we shine the spotlight on <strong>Onya Marketing</strong>! Ever wonder about your marketing strategy\, social media posts\, branding\, messaging\, TikTok\, Google\, purchasing adds\, boosting posts... (The list goes on!). Join us Wednesday\, August 7th at CoHatch in the Hamilton Town Center and we&#39\;ll all learn a little and network with an industry expert!<br />\n<br />\n<br />\n<br />\n<br />\n<br />\n&nbsp\;
LOCATION:CoHatch Noblesville 13110 Harrell Pkwy Suite 100
UID:e.1538.4804
SEQUENCE:3
DTSTAMP:20260425T233253Z
URL:https://business.noblesvillechamber.com/events/details/coffee-roaster-with-the-young-professionals-network-august-2024-4804
END:VEVENT

END:VCALENDAR
