BEGIN:VCALENDAR
VERSION:2.0
PRODID:-//ChamberMaster//Event Calendar 2.0//EN
METHOD:PUBLISH
X-PUBLISHED-TTL:P3D
REFRESH-INTERVAL:P3D
CALSCALE:GREGORIAN
BEGIN:VEVENT
DTSTART:20130817T150000Z
DTEND:20130817T193000Z
X-MICROSOFT-CDO-ALLDAYEVENT:FALSE
SUMMARY:Collision Cure Vintage Vehicle Expo
DESCRIPTION:Enjoy classic vehicles\, fun entertainment and exciting giveaways...wheel fun for everyone!\n\n	 \n\n	Date: Saturday\, August  17\n\n	Time: 11:00 a.m.   3:30 p.m. (Registrants may sign in at Collision Cure in Westfield between 9.am. and noon)\n\n	Cost: Free to the public\n\n	Location: Cool Creek Park\n\n	 \n\n	Do you have a classic car\, truck or motorcycle you want to show off?\n\n	If you have a classic vehicle you'd be proud to display at this show\, contact 317-770-4400 or visit myhamiltoncountyparks.com for registration information.
X-ALT-DESC;FMTTYPE=text/html:<p class="MsoNoSpacing" style="margin: 0in 0in 0pt">\n	<span style="mso-bidi-font-family: calibri\; mso-bidi-theme-font: minor-latin"><font size="3"><font color="#000000"><font face="Calibri">Enjoy classic vehicles\, fun entertainment and exciting giveaways...<i style="mso-bidi-font-style: normal">wheel</i><i style="mso-bidi-font-style: normal"> fun for everyone!<o:p></o:p></i></font></font></font></span></p>\n<p class="MsoNoSpacing" style="margin: 0in 0in 0pt">\n	<span style="mso-bidi-font-family: calibri\; mso-bidi-theme-font: minor-latin"><o:p><font color="#000000" face="Calibri" size="3">&nbsp\;</font></o:p></span></p>\n<p class="MsoNoSpacing" style="margin: 0in 0in 0pt">\n	<font size="3"><font color="#000000"><font face="Calibri"><span style="mso-bidi-font-family: calibri\; mso-bidi-theme-font: minor-latin\; mso-bidi-font-weight: bold">Date: </span><span style="mso-bidi-font-family: calibri\; mso-bidi-theme-font: minor-latin">Saturday\, August<span style="mso-spacerun: yes">&nbsp\; </span>17<o:p></o:p></span></font></font></font></p>\n<p class="MsoNoSpacing" style="margin: 0in 0in 0pt">\n	<font size="3"><font color="#000000"><font face="Calibri"><span style="mso-bidi-font-family: calibri\; mso-bidi-theme-font: minor-latin\; mso-bidi-font-weight: bold">Time: </span><span style="mso-bidi-font-family: calibri\; mso-bidi-theme-font: minor-latin">11:00 a.m. &ndash\; 3:30 p.m. (Registrants may sign in at Collision Cure in Westfield between 9.am. and noon)<o:p></o:p></span></font></font></font></p>\n<p class="MsoNoSpacing" style="margin: 0in 0in 0pt">\n	<font size="3"><font color="#000000"><font face="Calibri"><span style="mso-bidi-font-family: calibri\; mso-bidi-theme-font: minor-latin\; mso-bidi-font-weight: bold">Cost: </span><span style="mso-bidi-font-family: calibri\; mso-bidi-theme-font: minor-latin">Free to the public<o:p></o:p></span></font></font></font></p>\n<p class="MsoNoSpacing" style="margin: 0in 0in 0pt">\n	<font size="3"><font color="#000000"><font face="Calibri"><span style="mso-bidi-font-family: calibri\; mso-bidi-theme-font: minor-latin\; mso-bidi-font-weight: bold">Location</span><span style="mso-bidi-font-family: calibri\; mso-bidi-theme-font: minor-latin">: Cool Creek Park<o:p></o:p></span></font></font></font></p>\n<p class="MsoNoSpacing" style="margin: 0in 0in 0pt">\n	<span style="mso-bidi-font-family: calibri\; mso-bidi-theme-font: minor-latin"><o:p><font color="#000000" face="Calibri" size="3">&nbsp\;</font></o:p></span></p>\n<p class="MsoNoSpacing" style="margin: 0in 0in 0pt">\n	<span style="mso-bidi-font-family: calibri\; mso-bidi-theme-font: minor-latin\; mso-bidi-font-weight: bold"><font size="3"><font color="#000000"><font face="Calibri">Do you have a classic car\, truck or motorcycle you want to show off?<o:p></o:p></font></font></font></span></p>\n<p class="MsoNoSpacing" style="margin: 0in 0in 0pt">\n	<span style="mso-bidi-font-family: calibri\; mso-bidi-theme-font: minor-latin"><font size="3"><font color="#000000"><font face="Calibri">If you have a classic vehicle you&rsquo\;d be proud to display at this show\, contact <span style="mso-bidi-font-weight: bold">317-770-4400 </span>or visit <i><span style="mso-bidi-font-weight: bold">myhamiltoncountyparks.com </span></i>for registration information.<i><span style="mso-bidi-font-weight: bold"><o:p></o:p></span></i></font></font></font></span></p>\n
LOCATION:Cool Creek Park
UID:e.1538.405
SEQUENCE:3
DTSTAMP:20260420T021326Z
URL:https://business.noblesvillechamber.com/events/details/collision-cure-vintage-vehicle-expo-405
END:VEVENT

END:VCALENDAR
