BEGIN:VCALENDAR
VERSION:2.0
PRODID:-//ChamberMaster//Event Calendar 2.0//EN
METHOD:PUBLISH
X-PUBLISHED-TTL:P3D
REFRESH-INTERVAL:P3D
CALSCALE:GREGORIAN
BEGIN:VEVENT
DTSTART:20110716T150000Z
DTEND:20110716T150000Z
X-MICROSOFT-CDO-ALLDAYEVENT:FALSE
SUMMARY:Come play historic baseball at Conner Prairie!
DESCRIPTION:You're invited to come play some ball against the White River Base Ball Club!  Baseball has been a national pastime since the late 1800s and has been recreated at Conner Prairie for all ages to enjoy and participate in! The rules change based upon the designated year for each game. Visit our website for more information and the schedule at https://www.connerprairie.org/Learn-And-Do/Programs/Historic-Baseball.aspx
X-ALT-DESC;FMTTYPE=text/html:You're invited to come play some ball against the White River Base Ball Club!  Baseball has been a national pastime since the late 1800s and has been recreated at Conner Prairie for all ages to enjoy and participate in! The rules change based upon the designated year for each game. Visit our website for more information and the schedule at https://www.connerprairie.org/Learn-And-Do/Programs/Historic-Baseball.aspx 
LOCATION:Conner Prairie
UID:e.1538.192
SEQUENCE:3
DTSTAMP:20260421T154521Z
URL:https://business.noblesvillechamber.com/events/details/come-play-historic-baseball-at-conner-prairie-07-16-2011-192
END:VEVENT

END:VCALENDAR
