BEGIN:VCALENDAR
VERSION:2.0
PRODID:-//ChamberMaster//Event Calendar 2.0//EN
METHOD:PUBLISH
X-PUBLISHED-TTL:P3D
REFRESH-INTERVAL:P3D
CALSCALE:GREGORIAN
BEGIN:VEVENT
DTSTART:20120427T150000Z
DTEND:20120427T180000Z
X-MICROSOFT-CDO-ALLDAYEVENT:FALSE
SUMMARY:Commercial Appreciation Days
DESCRIPTION:We encourage all Noblesville Chamber of Commerce members to attend and learn the many benefits of a Lowe's Commercial Business Account.  We will be serving a free lunch for Commercial Business Accounts and for those businesses who "never stop improving" their bottom-line by signing up for a new account. We appreciate your continued support!
X-ALT-DESC;FMTTYPE=text/html:We encourage all Noblesville Chamber of Commerce members to attend and learn the many benefits of a Lowe's Commercial Business Account.  We will be serving a free lunch for Commercial Business Accounts and for those businesses who "never stop improving" their bottom-line by signing up for a new account. We appreciate your continued support!
LOCATION:Lowe's in Noblesville\, IN.
UID:e.1538.280
SEQUENCE:3
DTSTAMP:20260421T012952Z
URL:https://business.noblesvillechamber.com/events/details/commercial-appreciation-days-04-27-2012-280
END:VEVENT

END:VCALENDAR
