BEGIN:VCALENDAR
VERSION:2.0
PRODID:-//ChamberMaster//Event Calendar 2.0//EN
METHOD:PUBLISH
X-PUBLISHED-TTL:P3D
REFRESH-INTERVAL:P3D
CALSCALE:GREGORIAN
BEGIN:VEVENT
DTSTART:20130313T130000Z
DTEND:20130313T180000Z
X-MICROSOFT-CDO-ALLDAYEVENT:FALSE
SUMMARY:COMMUNITY JOB FAIR
DESCRIPTION:JOIN EXPRESS EMPLOYMENT PROFESSIONALS & AMERIANA BANK\n\n	FOR A\n\n	COMMUNITY JOB FAIR\n\n	MARCH 13TH\, 9AM - 2PM\n\n	\n\n	at Ameriana Westfield Banking Center\n\n	3333 N. SR 32 at Carey Road\n\n	Westfield\, IN\n\n	 \n\n	Participants will receive coupons from Carmel Cleaners for %50 off a drycleaning order.\n\n	Licensed PHR representative on-site providing resume interviewing tips on\n\n	"How NOT to get hired"
X-ALT-DESC;FMTTYPE=text/html:<div style="text-align: center">\n	JOIN EXPRESS EMPLOYMENT PROFESSIONALS &amp\; AMERIANA BANK<br />\n	FOR A</div>\n<div style="text-align: center">\n	COMMUNITY JOB FAIR<br />\n	MARCH 13TH\, 9AM - 2PM<br />\n	<br />\n	at Ameriana Westfield Banking Center<br />\n	3333 N. SR 32 at Carey Road<br />\n	Westfield\, IN</div>\n<div>\n	&nbsp\;</div>\n<div style="text-align: center">\n	Participants will receive coupons from Carmel Cleaners for %50 off a drycleaning order.<br />\n	Licensed PHR representative on-site providing resume interviewing tips on<br />\n	&quot\;How NOT to get hired&quot\;</div>\n
LOCATION:Ameriana Westfield Banking Center 3333 N. SR 32 at Carey Road Westfield\, IN
UID:e.1538.412
SEQUENCE:3
DTSTAMP:20260420T085012Z
URL:https://business.noblesvillechamber.com/events/details/community-job-fair-412
END:VEVENT

END:VCALENDAR
