BEGIN:VCALENDAR
VERSION:2.0
PRODID:-//ChamberMaster//Event Calendar 2.0//EN
METHOD:PUBLISH
X-PUBLISHED-TTL:P3D
REFRESH-INTERVAL:P3D
CALSCALE:GREGORIAN
BEGIN:VEVENT
DTSTART:20120720T230000Z
DTEND:20120721T020000Z
X-MICROSOFT-CDO-ALLDAYEVENT:FALSE
SUMMARY:Concert in the Park @ Saxony
DESCRIPTION:Saxony Summer Concert Series - Come to Witten Park @ Saxony Friday\, July 20 and enjoy an evening of family fun and music. My Yellow Rickshaw will take the stage at 7:00pm. Bring you chair\, blanket\, picnic dinner\, family and friends for an enjoyable evening in the park.
X-ALT-DESC;FMTTYPE=text/html:Saxony Summer Concert Series - Come to Witten Park @ Saxony Friday\, July 20 and enjoy an evening of family fun and music. My Yellow Rickshaw will take the stage at 7:00pm. Bring you chair\, blanket\, picnic dinner\, family and friends for an enjoyable evening in the park.
LOCATION:Witten Park @ Saxony is located right off of 131st and Olio Road. The park is seen diagonal from the Bonn Building on 131st street. You won't be able to miss all the cars and the "rolling rhythm" sculpture out front.
UID:e.1538.319
SEQUENCE:3
DTSTAMP:20260420T203620Z
URL:https://business.noblesvillechamber.com/events/details/concert-in-the-park-saxony-07-20-2012-319
END:VEVENT

END:VCALENDAR
