BEGIN:VCALENDAR
VERSION:2.0
PRODID:-//ChamberMaster//Event Calendar 2.0//EN
METHOD:PUBLISH
X-PUBLISHED-TTL:P3D
REFRESH-INTERVAL:P3D
CALSCALE:GREGORIAN
BEGIN:VEVENT
DTSTART:20130908T210000Z
DTEND:20130908T230000Z
X-MICROSOFT-CDO-ALLDAYEVENT:FALSE
SUMMARY:Concerts in the Centerpiece - George Cole & Eurocana
DESCRIPTION:This Sunday evening relax on the stately grounds of Coxhall Gardens. While listening to the area's best jazz and instrumental performers\, visit with family\, friends\, and neighbors. Concessions are not available\, but picnicking is welcome.\n\n	 \n\n	Future Concerts:\n\n	September 15 - Jazz Arts Society of Indiana\n\n	September 22 - Tad Armstrong\n\n	October 6 - Stella Luna & the Satellites\n\n	 \n\n	Presented by St. Vincent Carmel Hospital
X-ALT-DESC;FMTTYPE=text/html:<p class="MsoNormal" style="line-height: normal\; margin: 0in 0in 0pt">\n	<font size="3"><font color="#000000"><font face="Calibri">This Sunday evening relax on the stately grounds of Coxhall Gardens. While listening to the area&rsquo\;s best jazz and instrumental performers\, visit with family\, friends\, and neighbors. Concessions are not available\, but picnicking is welcome.<o:p></o:p></font></font></font></p>\n<p class="MsoNormal" style="line-height: normal\; margin: 0in 0in 0pt">\n	<o:p><font color="#000000" face="Calibri" size="3">&nbsp\;</font></o:p></p>\n<p class="MsoNormal" style="line-height: normal\; margin: 0in 0in 0pt">\n	<font size="3"><font color="#000000"><font face="Calibri">Future Concerts:<o:p></o:p></font></font></font></p>\n<p class="MsoNormal" style="line-height: normal\; margin: 0in 0in 0pt">\n	<font size="3"><font color="#000000"><font face="Calibri">September 15 - Jazz Arts Society of Indiana<o:p></o:p></font></font></font></p>\n<p class="MsoNormal" style="line-height: normal\; margin: 0in 0in 0pt">\n	<font size="3"><font color="#000000"><font face="Calibri">September 22 - Tad Armstrong<o:p></o:p></font></font></font></p>\n<p class="MsoNormal" style="line-height: normal\; margin: 0in 0in 0pt">\n	<font size="3"><font color="#000000"><font face="Calibri">October 6 - Stella Luna &amp\; the Satellites<o:p></o:p></font></font></font></p>\n<p class="MsoNormal" style="line-height: normal\; margin: 0in 0in 0pt">\n	<o:p><font color="#000000" face="Calibri" size="3">&nbsp\;</font></o:p></p>\n<p class="MsoNormal" style="line-height: normal\; margin: 0in 0in 0pt">\n	<font size="3"><font color="#000000"><font face="Calibri">Presented by St. Vincent Carmel Hospital<o:p></o:p></font></font></font></p>\n
LOCATION:Coxhall Gardens
UID:e.1538.498
SEQUENCE:3
DTSTAMP:20260420T010921Z
URL:https://business.noblesvillechamber.com/events/details/concerts-in-the-centerpiece-george-cole-eurocana-498
END:VEVENT

END:VCALENDAR
