BEGIN:VCALENDAR
VERSION:2.0
PRODID:-//ChamberMaster//Event Calendar 2.0//EN
METHOD:PUBLISH
X-PUBLISHED-TTL:P3D
REFRESH-INTERVAL:P3D
CALSCALE:GREGORIAN
BEGIN:VEVENT
DTSTART:20131006T210000Z
DTEND:20131006T230000Z
X-MICROSOFT-CDO-ALLDAYEVENT:FALSE
SUMMARY:Concerts in the Centerpiece - Stella Luna & the Satellites
DESCRIPTION:Concerts in the Centerpiece\n\n	This Sunday evening relax on the stately grounds of Coxhall Gardens. While listening to the area's best jazz and instrumental performers\, visit with family\, friends\, and neighbors. Concessions are not available\, but picnicking is welcome.\n\n	 \n\n	Presented by St. Vincent Carmel Hospital
X-ALT-DESC;FMTTYPE=text/html:<p class="MsoNormal" style="line-height: normal\; margin: 0in 0in 0pt">\n	<font size="3"><font color="#000000"><font face="Calibri">Concerts in the Centerpiece<o:p></o:p></font></font></font></p>\n<p class="MsoNormal" style="line-height: normal\; margin: 0in 0in 0pt">\n	<font size="3"><font color="#000000"><font face="Calibri">This Sunday evening relax on the stately grounds of Coxhall Gardens. While listening to the area&rsquo\;s best jazz and instrumental performers\, visit with family\, friends\, and neighbors. Concessions are not available\, but picnicking is welcome.<o:p></o:p></font></font></font></p>\n<p class="MsoNormal" style="line-height: normal\; margin: 0in 0in 0pt">\n	<o:p><font color="#000000" face="Calibri" size="3">&nbsp\;</font></o:p></p>\n<p class="MsoNormal" style="line-height: normal\; margin: 0in 0in 0pt">\n	<font size="3"><font color="#000000"><font face="Calibri">Presented by St. Vincent Carmel Hospital<o:p></o:p></font></font></font></p>\n
LOCATION:Coxhall Gardens 2000 W 116th St Carmel\, IN 46032
UID:e.1538.501
SEQUENCE:3
DTSTAMP:20260419T214623Z
URL:https://business.noblesvillechamber.com/events/details/concerts-in-the-centerpiece-stella-luna-the-satellites-501
END:VEVENT

END:VCALENDAR
