BEGIN:VCALENDAR
VERSION:2.0
PRODID:-//ChamberMaster//Event Calendar 2.0//EN
METHOD:PUBLISH
X-PUBLISHED-TTL:P3D
REFRESH-INTERVAL:P3D
CALSCALE:GREGORIAN
BEGIN:VEVENT
DTSTART:20130728T223000Z
DTEND:20130728T233000Z
X-MICROSOFT-CDO-ALLDAYEVENT:FALSE
SUMMARY:Concerts in the Park
DESCRIPTION:Noblesville Cultural Arts Commission \n\nis proud to present these free concerts harking back to the old gazebo band concerts of yesterday. Our free concerts benefit the entire community by presenting quality\, "big band" music in a relaxed atmosphere.\n\nBring your picnic and lawn chairs and join us.
X-ALT-DESC;FMTTYPE=text/html:<span size="3" style="font-size: medium\;"><span><b><span size="4" style="font-size: large\;"><span style="text-decoration: underline\;">Noblesville Cultural Arts Commission</span> </span></b><br />\nis proud to present these </span></span><span size="3" style="font-size: medium\;"><span>free concerts harking back to the old gazebo band concerts</span></span><span size="3" style="font-size: medium\;"><span> of yesterday. Our free concerts benefit the entire community by</span></span> <span size="3" style="font-size: medium\;"><span>presenting quality\, &quot\;big band&quot\; music in a relaxed</span></span> <span size="3" style="font-size: medium\;"><span>atmosphere.</span></span><br />\nBring your picnic and lawn chairs and join us.
LOCATION:Seminary Park Located at 10th & Hannibal St. Noblesville
UID:e.1538.457
SEQUENCE:3
DTSTAMP:20260420T021209Z
URL:https://business.noblesvillechamber.com/events/details/concerts-in-the-park-457
END:VEVENT

END:VCALENDAR
